BEGIN:VCALENDAR
VERSION:2.0
PRODID:-//ChamberMaster//Event Calendar 2.0//EN
METHOD:PUBLISH
X-PUBLISHED-TTL:P3D
REFRESH-INTERVAL:P3D
CALSCALE:GREGORIAN
BEGIN:VEVENT
DTSTART:20250624T170000Z
DTEND:20250624T183000Z
X-MICROSOFT-CDO-ALLDAYEVENT:FALSE
SUMMARY:How to Save Time Using Microsoft AI & Automation
DESCRIPTION:Learn to streamline tasks and boost efficiency using Microsoft AI tools like Copilot\, automation and real-world productivity solutions.
X-ALT-DESC;FMTTYPE=text/html:<!--StartFragment--><span data-olk-copy-source="MessageBody" style="margin: 0px\;">Learn to streamline tasks and boost efficiency using Microsoft AI tools like Copilot\, automation and real-world productivity solutions.</span><!--EndFragment-->
LOCATION:Zoom
UID:e.1126.31374
SEQUENCE:3
DTSTAMP:20260424T080603Z
URL:https://business.lflbchamber.com/events/details/how-to-save-time-using-microsoft-ai-automation-31374
END:VEVENT

END:VCALENDAR
