BEGIN:VCALENDAR
VERSION:2.0
PRODID:-//ChamberMaster//Event Calendar 2.0//EN
METHOD:PUBLISH
X-PUBLISHED-TTL:P3D
REFRESH-INTERVAL:P3D
CALSCALE:GREGORIAN
BEGIN:VEVENT
DTSTART:20190621T151500Z
DTEND:20190621T164500Z
X-MICROSOFT-CDO-ALLDAYEVENT:FALSE
SUMMARY:HOW TO SURVIVE AND THRIVE IN A JOB INTERVIEW
DESCRIPTION:Presented by: John M. Orr\, PhD.\, President\, Rogala & Orr\, Inc.\n\n          Wouldn't it be great if you knew exactly what a hiring manager would be asking you in your next interview? This program will help you better recognize and understand the range of interview questions and techniques employed by companies. You can develop the ability to answer even unexpected questions. Interviewing is a skill and as with all skills\, preparation and practice enhances the quality of that skill. Preparation will also increase your confidence and can make the difference between getting an offer and getting rejected. \n\n     John M. Orr is President of Rogala & Orr\, Inc.\, a leading management consulting firm based in Oak Brook\, IL. In addition to helping companies select and develop the staff needed for long-term success\, John also specializes in customized succession planning\, talent appraisal\, labor risk management\, the reduction of turnover\, and performance enhancement. He has a Ph.D. in Industrial Psychology from the University of Illinois at Chicago.
X-ALT-DESC;FMTTYPE=text/html:Presented by:&nbsp\;<span style="font-family:tahoma\,sans-serif"><span style="font-size:12.0pt">John M. Orr\, PhD.\, President\, Rogala &amp\; Orr\, Inc.</span><br />\n&nbsp\;&nbsp\;&nbsp\;&nbsp\;&nbsp\;&nbsp\;&nbsp\;&nbsp\;&nbsp\; Wouldn&rsquo\;t it be great if you knew exactly what a hiring manager would be asking you in your next interview? This program will help you better recognize and understand the range of interview questions and techniques employed by companies. You can develop the ability to answer even unexpected questions. Interviewing is a skill and as with all skills\, preparation and practice enhances the quality of that skill. Preparation will also increase your confidence and can make the difference between getting an offer and getting rejected. </span><br />\n<span style="font-family:tahoma\,sans-serif">&nbsp\;&nbsp\;&nbsp\;&nbsp\; John M. Orr is President of Rogala &amp\; Orr\, Inc.\, a leading management consulting firm based in Oak Brook\, IL. In addition to helping companies select and develop the staff needed for long-term success\, John also specializes in customized succession planning\, talent appraisal\, labor risk management\, the reduction of turnover\, and performance enhancement. He has a Ph.D. in Industrial Psychology from the University of Illinois at Chicago.</span><br />\n&nbsp\;
LOCATION:Career Resource Center Grove Cultural Campus 40 E. Old Mill Road Lake Forest\, IL 60045
UID:e.1126.17881
SEQUENCE:3
DTSTAMP:20260424T071611Z
URL:https://business.lflbchamber.com/events/details/how-to-survive-and-thrive-in-a-job-interview-06-21-2019-17881
END:VEVENT

END:VCALENDAR
