BEGIN:VCALENDAR
VERSION:2.0
PRODID:-//ChamberMaster//Event Calendar 2.0//EN
METHOD:PUBLISH
X-PUBLISHED-TTL:P3D
REFRESH-INTERVAL:P3D
CALSCALE:GREGORIAN
BEGIN:VEVENT
DTSTART:20250612T160000Z
DTEND:20250612T173000Z
X-MICROSOFT-CDO-ALLDAYEVENT:FALSE
SUMMARY:How To Use Discovery To Maximize Sales
DESCRIPTION:Discover how curiosity-driven conversations can boost trust\, reveal customer needs and drive long-term sales growth without the hard sell.
X-ALT-DESC;FMTTYPE=text/html:<!--StartFragment--><span data-olk-copy-source="MessageBody" style="margin: 0px\;">Discover how curiosity-driven conversations can boost trust\, reveal customer needs and drive long-term sales growth without the hard sell.</span><!--EndFragment-->
LOCATION:Zoom
UID:e.1126.31369
SEQUENCE:3
DTSTAMP:20260424T080951Z
URL:https://business.lflbchamber.com/events/details/how-to-use-discovery-to-maximize-sales-31369
END:VEVENT

END:VCALENDAR
