BEGIN:VCALENDAR
VERSION:2.0
PRODID:-//ChamberMaster//Event Calendar 2.0//EN
METHOD:PUBLISH
X-PUBLISHED-TTL:P3D
REFRESH-INTERVAL:P3D
CALSCALE:GREGORIAN
BEGIN:VEVENT
DTSTART:20250515T170000Z
DTEND:20250515T180000Z
X-MICROSOFT-CDO-ALLDAYEVENT:FALSE
SUMMARY:How to Utilize AI in Content Marketing to Create and Optimize Your Content
DESCRIPTION:Explore how AI tools can help you create marketing content\, like generating social media content\, email newsletters and graphics.
X-ALT-DESC;FMTTYPE=text/html:<span data-olk-copy-source="MessageBody" style="border: 0px\; font-variant-numeric: inherit\; font-variant-east-asian: inherit\; font-variant-alternates: inherit\; font-variant-position: inherit\; font-variant-emoji: inherit\; font-stretch: inherit\; font-size: 15px\; line-height: inherit\; font-family: Lato\, sans-serif\; font-optical-sizing: inherit\; font-size-adjust: inherit\; font-kerning: inherit\; font-feature-settings: inherit\; font-variation-settings: inherit\; margin: 0px\; padding: 0px\; vertical-align: baseline\; color: rgb(40\, 40\, 41)\; background-color: rgb(240\, 245\, 249)\;">Explore&nbsp\;</span><span style="color: rgb(40\, 40\, 41)\; font-family: Lato\, sans-serif\; font-size: 16px\; background-color: rgb(240\, 245\, 249)\;">how AI tools can help you create marketing content\, like generating social media content\, email newsletters and graphics.</span>
LOCATION:Zoom
UID:e.1126.30797
SEQUENCE:3
DTSTAMP:20260424T040824Z
URL:https://business.lflbchamber.com/events/details/how-to-utilize-ai-in-content-marketing-to-create-and-optimize-your-content-30797
END:VEVENT

END:VCALENDAR
