BEGIN:VCALENDAR
VERSION:2.0
PRODID:-//ChamberMaster//Event Calendar 2.0//EN
METHOD:PUBLISH
X-PUBLISHED-TTL:P3D
REFRESH-INTERVAL:P3D
CALSCALE:GREGORIAN
BEGIN:VEVENT
DTSTART:20240605T000000Z
DTEND:20240605T010000Z
X-MICROSOFT-CDO-ALLDAYEVENT:FALSE
SUMMARY:Illinois Libraries Present: The Hidden Gifts of Visual Thinkers with Dr. Temple Grandin (Online Program)
DESCRIPTION:Update: This event has been rescheduled to June 4th. Those previously registered will remain registered for the new date.\n\nJoin us for a special event with Dr. Temple Grandin\, one of the world's most accomplished and well-known adults with autism. Dr. Grandin has been at the forefront of research and activism for autism and neurodiversity for decades. Dr. Grandin's research and understanding of animal behavior spearheaded a reform in the quality of life for agricultural animals worldwide.\n\nThis is an online program\, Registration is required. Please visit the ILP Registration page to register for this event. You will receive a Zoom link with your completed registration.\n\nThis event is made possible by Illinois Libraries Present (ILP)\, a statewide collaboration among public libraries offering premier events. ILP is funded in part by a grant awarded by the Illinois State Library\, a department of the Office of Secretary of State\, using funds provided by the U.S. Institute of Museum and Library Services\, under the provisions of the Library Services and Technology Act (LSTA). \n\nILP is committed to inclusion and accessibility. To request accommodations\, please email illinoislibrariespresent@gmail.com
X-ALT-DESC;FMTTYPE=text/html:<p><strong>Update: This event has been rescheduled to June 4th. Those previously registered will remain registered for the new date.</strong></p>\n\n<p>Join us for a special event with Dr. Temple Grandin\, one of the world&rsquo\;s most accomplished and well-known adults with autism. Dr. Grandin has been at the forefront of research and activism for autism and neurodiversity for decades. Dr. Grandin&rsquo\;s research and understanding of animal behavior spearheaded a reform in the quality of life for agricultural animals worldwide.</p>\n\n<p>This is an online program\, Registration is required. Please visit the&nbsp\;<a href="https://bit.ly/ILP_TempleGrandin" style="box-sizing: border-box\; background-color: transparent\; color: rgb(41\, 84\, 209)\; text-decoration-line: none\;">ILP Registration page</a>&nbsp\;to register for this event. You will receive a Zoom link with your completed registration.</p>\n\n<p><em>This event is made possible by Illinois Libraries Present (ILP)\, a statewide collaboration among public libraries offering premier events. ILP is funded in part by a grant awarded by the Illinois State Library\, a department of the Office of Secretary of State\, using funds provided by the U.S. Institute of Museum and Library Services\, under the provisions of the Library Services and Technology Act (LSTA).&nbsp\;</em></p>\n\n<p><em>ILP is committed to inclusion and accessibility. To request accommodations\, please email&nbsp\;<a href="mailto:illinoislibrariespresent@gmail.com" style="box-sizing: border-box\; background-color: transparent\; color: rgb(41\, 84\, 209)\; text-decoration-line: none\;">illinoislibrariespresent@gmail.com</a></em></p>\n
LOCATION:Lake Bluff Public Library 123 E. Scranton Ave. Lake Bluff\, IL. 60044
UID:e.1126.26865
SEQUENCE:3
DTSTAMP:20260424T010756Z
URL:https://business.lflbchamber.com/events/details/illinois-libraries-present-the-hidden-gifts-of-visual-thinkers-with-dr-temple-grandin-online-program-26865
END:VEVENT

END:VCALENDAR
