BEGIN:VCALENDAR
VERSION:2.0
PRODID:-//ChamberMaster//Event Calendar 2.0//EN
METHOD:PUBLISH
X-PUBLISHED-TTL:P3D
REFRESH-INTERVAL:P3D
CALSCALE:GREGORIAN
BEGIN:VEVENT
DTSTART:20190417T233000Z
DTEND:20190418T010000Z
X-MICROSOFT-CDO-ALLDAYEVENT:FALSE
SUMMARY:Imagine Her in the C-Suite
DESCRIPTION:Join the launch of "Imagine Her in the C-Suite\," an educational event series presented by Woodlands Academy of the Sacred Heart. Open to the public\, the series provides an opportunity for school-aged girls across Chicagoland to engage in dialogue with leading professionals and with one another. Featured speakers include CEOs and executives who share their success stories   as well as the failures that helped shape their professional development   to inspire achievement\, build confidence and embolden girls to forge pathways to excellence in the fields of science\, technology\, engineering\, math\, business and beyond. To register\, visit woodlandsacademy.org/speaker
X-ALT-DESC;FMTTYPE=text/html:Join the launch of &ldquo\;Imagine Her in the C-Suite\,&rdquo\; an educational event series presented by Woodlands Academy of the Sacred Heart. Open to the public\, the series provides an opportunity for school-aged girls across Chicagoland to engage in dialogue with leading professionals and with one another. Featured speakers include CEOs and executives who share their success stories &ndash\; as well as the failures that helped shape their professional development &ndash\; to inspire achievement\, build confidence and embolden girls to forge pathways to excellence in the fields of science\, technology\, engineering\, math\, business and beyond. To register\, visit woodlandsacademy.org/speaker
LOCATION:Gloria Dei Center at Woodlands Academy of the Sacred Heart Gloria Dei Center at Woodlands Academy of the Sacred Heart\, 760 E Westleigh Rd Lake Forest\, IL 60045
UID:e.1126.17664
SEQUENCE:3
DTSTAMP:20260424T084617Z
URL:https://business.lflbchamber.com/events/details/imagine-her-in-the-c-suite-17664
END:VEVENT

END:VCALENDAR
