BEGIN:VCALENDAR
VERSION:2.0
PRODID:-//ChamberMaster//Event Calendar 2.0//EN
METHOD:PUBLISH
X-PUBLISHED-TTL:P3D
REFRESH-INTERVAL:P3D
CALSCALE:GREGORIAN
BEGIN:VEVENT
DTSTART:20250617T160000Z
DTEND:20250617T170000Z
X-MICROSOFT-CDO-ALLDAYEVENT:FALSE
SUMMARY:Increase Sales With Google Tools
DESCRIPTION:Learn to boost product visibility and sales using free Google tools like Business Profile\, Merchant Center and Pointy.
X-ALT-DESC;FMTTYPE=text/html:<!--StartFragment--><span data-olk-copy-source="MessageBody" style="margin: 0px\;">Learn to boost product visibility and sales using free Google tools like Business Profile\, Merchant Center and Pointy.</span><!--EndFragment-->
LOCATION:Zoom
UID:e.1126.31372
SEQUENCE:3
DTSTAMP:20260424T083348Z
URL:https://business.lflbchamber.com/events/details/increase-sales-with-google-tools-31372
END:VEVENT

END:VCALENDAR
