BEGIN:VCALENDAR
VERSION:2.0
PRODID:-//ChamberMaster//Event Calendar 2.0//EN
METHOD:PUBLISH
X-PUBLISHED-TTL:P3D
REFRESH-INTERVAL:P3D
CALSCALE:GREGORIAN
BEGIN:VEVENT
DTSTART:20250520T140000Z
DTEND:20250520T153000Z
X-MICROSOFT-CDO-ALLDAYEVENT:FALSE
SUMMARY:Innovative Business Partnerships with Disability-Centered Organizations
DESCRIPTION:This is a 3-part panel series focused on advancing disability inclusion in the workplace and in business partnerships. This series will address key topics ranging from innovative business collaborations to hiring practices and tackling systemic barriers. These panels will feature insightful discussions and expert panelists from leading disability-centered organizations. Part 1 of this panel will highlight innovative and meaningful business partnerships with disability-centered organizations\, moving beyond traditional sponsorships. It will showcase inspiring stories of collaboration and purpose\, demonstrating how businesses can make a lasting social impact. Ideal Panelists: John Gotwald (Moderator)   Expert in creative connections\, partnerships\, and organizations GiGi's Playhouse   Sharing real-world examples of creative business partnerships Aspiritech   A leading example of a neurodiverse workforce\, discussing their business collaborations Key Discussion Points: What does a meaningful and creative partnership look like? Why is it important for businesses to have a social impact in today's world? Examples of impactful collaborations that drive change and inclusion.
X-ALT-DESC;FMTTYPE=text/html:This is a 3-part panel series focused on advancing disability inclusion in the workplace and in business partnerships. This series will address key topics ranging from innovative business collaborations to hiring practices and tackling systemic barriers. These panels will feature insightful discussions and expert panelists from leading disability-centered organizations. Part 1 of this panel will highlight innovative and meaningful business partnerships with disability-centered organizations\, moving beyond traditional sponsorships. It will showcase inspiring stories of collaboration and purpose\, demonstrating how businesses can make a lasting social impact. Ideal Panelists: John Gotwald (Moderator) &ndash\; Expert in creative connections\, partnerships\, and organizations GiGi&rsquo\;s Playhouse &ndash\; Sharing real-world examples of creative business partnerships Aspiritech &ndash\; A leading example of a neurodiverse workforce\, discussing their business collaborations Key Discussion Points: What does a meaningful and creative partnership look like? Why is it important for businesses to have a social impact in today&rsquo\;s world? Examples of impactful collaborations that drive change and inclusion.
LOCATION:Deerfield Bannockburn Riverwoods Chamber of Commerce Building Press "S" in the elevator 570 Lake Cook Rd. Deerfield\, IL 60015
UID:e.1126.30825
SEQUENCE:3
DTSTAMP:20260424T053333Z
URL:https://business.lflbchamber.com/events/details/innovative-business-partnerships-with-disability-centered-organizations-30825
END:VEVENT

END:VCALENDAR
