BEGIN:VCALENDAR
VERSION:2.0
PRODID:-//ChamberMaster//Event Calendar 2.0//EN
METHOD:PUBLISH
X-PUBLISHED-TTL:P3D
REFRESH-INTERVAL:P3D
CALSCALE:GREGORIAN
BEGIN:VEVENT
DTSTART:20190306T161500Z
DTEND:20190306T174500Z
X-MICROSOFT-CDO-ALLDAYEVENT:FALSE
SUMMARY:INTERVIEWING YOUR INNER SELF
DESCRIPTION:Presented by: Cindy Dove\, Founder of Purposed Lives\n\n\n\nUnderstanding your own personal communication style\, or life energy\, can help your job search in many ways. During this interactive and enlightening program you will learn to recognize all three styles\, discover the strength of your own style and be able to relate more effectively with everyone.\n\nYou will discover:\n\n	The three communication styles (life energies) and how to interact with each\;\n	Tips for speaking the same language as your interviewer\;\n	The necessary tools to find the right job for your life energy.\n\nWhen you understand your own life energy and are able to recognize other people's styles\, you will be able to communicate better. As a result\, your next interview will be more genuine and effective.\n\nCindy Dove\, M.S.\, founder of Purposed Lives\, is a graduate of the University of Wisconsin-Madison. As a Life Purpose Coach\, she has been guiding people in the discovery of life purpose and life energies for over 25 years. She has worked with many groups\, families\, couples\, and individuals\, guiding them to achieve a sense of empowerment\, clarity\, and self-confidence.
X-ALT-DESC;FMTTYPE=text/html:Presented by:&nbsp\;<span style="font-family:tahoma\,sans-serif"><span style="font-size:12.0pt">Cindy Dove\, Founder of Purposed Lives</span></span><br />\n<br />\n<span style="font-family:tahoma\,sans-serif">Understanding your own personal communication style\, or life energy\, can help your job search in many ways. During this interactive and enlightening program you will learn to recognize all three styles\, discover the strength of your own style and be able to relate more effectively with everyone.</span><br />\n<span style="font-family:tahoma\,sans-serif">You will discover:</span>\n<ul>\n	<li><span style="font-family:tahoma\,sans-serif">The three communication styles (life energies) and how to interact with each\;</span></li>\n	<li><span style="font-family:tahoma\,sans-serif">Tips for speaking the same language as your interviewer\;</span></li>\n	<li><span style="font-family:tahoma\,sans-serif">The necessary tools to find the right job for your life energy.</span></li>\n</ul>\n<span style="font-family:tahoma\,sans-serif">When you understand your own life energy and are able to recognize other people&rsquo\;s styles\, you will be able to communicate better. As a result\, your next interview will be more genuine and effective.</span><br />\n<span style="font-family:tahoma\,sans-serif">Cindy Dove\, M.S.\, founder of Purposed Lives\, is a graduate of the University of Wisconsin-Madison. As a Life Purpose Coach\, she has been guiding people in the discovery of life purpose and life energies for over 25 years. She has worked with many groups\, families\, couples\, and individuals\, guiding them to achieve a sense of empowerment\, clarity\, and self-confidence.</span>
LOCATION:Career Resource Center Grove Cultural Campus 40 E. Old Mill Road Lake Forest\, IL 60045
UID:e.1126.17604
SEQUENCE:3
DTSTAMP:20260424T100037Z
URL:https://business.lflbchamber.com/events/details/interviewing-your-inner-self-03-06-2019-17604
END:VEVENT

END:VCALENDAR
