BEGIN:VCALENDAR
VERSION:2.0
PRODID:-//ChamberMaster//Event Calendar 2.0//EN
METHOD:PUBLISH
X-PUBLISHED-TTL:P3D
REFRESH-INTERVAL:P3D
CALSCALE:GREGORIAN
BEGIN:VEVENT
DTSTART;VALUE=DATE:20231202
DTEND;VALUE=DATE:20231203
TRANSP:TRANSPARENT
X-MICROSOFT-CDO-ALLDAYEVENT:TRUE
SUMMARY:It's a Wonderful Life in Lake Bluff!
DESCRIPTION:It's a Wonderful Life in Lake Bluff...\n\nJoin us for a delightfully festive and fun family event weekend to kick off the holidays downtown Lake Bluff!!\n\n\n\n\n\nSATURDAY\, DECEMBER 2\n\n\n\n7 AM   12 PM | BREAKFAST WITH SANTA at Grace United Methodist Church presented by the Kiwanis Club\n\n\n\n10 AM   4 PM | "It's a Wonderful Life" CLASSIC MOVIE EXHIBIT presented by the Lake Bluff History Museum\n\n\n\n12-4:30 PM | ART MARKET Artists on the Bluff at Linda Scholly Studios | 110 E. Scranton\n\n\n\n1 -3 PM | HORSE-DRAWN CARRIAGE RIDES Courtesy of Lake Forest Bank & Trust\n\n\n\n1 -3 PM | REINDEER at the Village Green courtesy of the Village of Lake Bluff\n\n\n\n1 -5:30 PM | HOT COCOA TRUCK at the Village Green courtesy of Annie Royster Lenzke | Dawn McKenna Group\n\n\n\n2-4 PM | CRAFTS\, STORYTIME\, FACEPAINTING & MORE sponsored by the Lake Bluff Library\n\n \n\n5 PM | LIGHTING CEREMONY The infamous 'light orbs' are turned on for the season!\n\nMusic provided by LB Elementary Students\, LFHS Festival Brass & the Lake Forest Civic Orchestra Musicians\n\n \n\n Check back for a list of specials & treats offered throughout town on Dec. 2!\n\n \n\n\n\n SUNDAY\, DECEMBER 3\n\n\n\n11 AM   4 PM | HOLIDAY HOME TOUR presented by the Lake Bluff History Museum\n\n\n\n\n\nHOLIDAY EVENT PARTNERS...\n\nLake Bluff Library\n\nAnnie Royster Lenzke\, Realtor | Dawn McKenna Group\n\nLake Bluff History Museum\n\nLake Forest Bank & Trust\n\nLake Forest/Lake Bluff Chamber of Commerce\n\nVillage of Lake Bluff
X-ALT-DESC;FMTTYPE=text/html:<div style="text-align: center\;">\n<div><strong><em><span style="color:#c00000\;"><span style="font-family:arial\,sans-serif\;"><span style="font-size:16pt\;">It&rsquo\;s a Wonderful Life in Lake Bluff...</span></span></span></em></strong><br />\n<strong><em><span style="color:#c00000\;"><span style="font-family:arial\,sans-serif\;"><span style="font-size:16pt\;">Join us for a delightfully festive and fun family event weekend to kick off the holidays downtown Lake Bluff!!</span></span></span></em></strong><br />\n<br />\n<br />\n<strong><span style="color:#C00000\;"><span style="font-family:arial\,sans-serif\;"><span style="font-size:14.0pt\;">SATURDAY\, DECEMBER 2</span></span></span></strong><br />\n<br />\n<strong><span style="background:white\;"><span style="color:green\;"><span style="font-family:arial\,sans-serif\;">7 AM &ndash\; 12 PM | BREAKFAST WITH SANTA</span></span></span></strong>&nbsp\;<span style="background:white\;"><span style="color:black\;"><span style="font-family:arial\,sans-serif\;">at Grace United Methodist Church presented by the Kiwanis Club</span></span></span><br />\n<br />\n<strong style="font-size: 14px\; text-align: center\;"><span style="color: green\;"><span style="font-family: arial\, sans-serif\;">10 AM &ndash\; 4 PM</span></span></strong><span style="text-align: center\; color: green\;"><span style="font-family: arial\, sans-serif\;">&nbsp\;<strong>|&nbsp\;</strong></span></span><strong style="font-size: 14px\; text-align: center\;"><span style="color: green\;"><span style="font-family: arial\, sans-serif\;">&quot\;It&#39\;s a Wonderful Life&quot\; CLASSIC MOVIE EXHIBIT&nbsp\;</span></span></strong><span style="font-size:14px\;"><span style="text-align: center\; color: black\;"><span style="font-family: arial\, sans-serif\;">presented by t</span></span><span style="text-align: center\;"><span style="font-family: arial\, sans-serif\;">he&nbsp\;<a href="https://lakebluffhistory.org/">Lake Bluff History Museum</a></span></span></span><br />\n<br />\n<strong style="text-align: center\;"><span style="background-image: initial\; background-position: initial\; background-size: initial\; background-repeat: initial\; background-attachment: initial\; background-origin: initial\; background-clip: initial\;"><span style="color: green\;"><span style="font-family: arial\, sans-serif\;">12-4:30 PM | ART MARKET</span></span></span></strong><span style="text-align: center\;">&nbsp\;<font color="#000000" face="arial\, sans-serif">Artists on the Bluff at Linda Scholly Studios | 110 E. Scranton</font></span><br />\n<br />\n<strong style="text-align: center\;"><span style="background-image: initial\; background-position: initial\; background-size: initial\; background-repeat: initial\; background-attachment: initial\; background-origin: initial\; background-clip: initial\;"><span style="color: green\;"><span style="font-family: arial\, sans-serif\;">1 -3&nbsp\;PM | HORSE-DRAWN CARRIAGE RIDES</span></span></span></strong><span style="text-align: center\;">&nbsp\;</span><span style="text-align: center\; background-image: initial\; background-position: initial\; background-size: initial\; background-repeat: initial\; background-attachment: initial\; background-origin: initial\; background-clip: initial\;"><span style="color: black\;"><span style="font-family: arial\, sans-serif\;">Court</span></span><span style="font-family: arial\, sans-serif\;">esy of <a href="http://Lakeforestbank.com">Lake Forest Bank &amp\; Trust</a></span></span><br />\n<br />\n<strong style="text-align: center\;"><span style="background-image: initial\; background-position: initial\; background-size: initial\; background-repeat: initial\; background-attachment: initial\; background-origin: initial\; background-clip: initial\;"><span style="color: green\;"><span style="font-family: arial\, sans-serif\;">1 -3&nbsp\;PM | REINDEER</span></span></span></strong><span style="text-align: center\;">&nbsp\;</span><span style="text-align: center\; background-image: initial\; background-position: initial\; background-size: initial\; background-repeat: initial\; background-attachment: initial\; background-origin: initial\; background-clip: initial\;"><span style="color: black\;"><span style="font-family: arial\, sans-serif\;">at the Village Green courtesy of the Village of Lake Bluff</span></span></span><br />\n<br />\n<strong style="text-align: center\;"><span style="background-image: initial\; background-position: initial\; background-size: initial\; background-repeat: initial\; background-attachment: initial\; background-origin: initial\; background-clip: initial\;"><span style="color: green\;"><span style="font-family: arial\, sans-serif\;">1 -5:30 PM | HOT COCOA TRUCK&nbsp\;</span></span></span></strong><span style="text-align: center\; background-image: initial\; background-position: initial\; background-size: initial\; background-repeat: initial\; background-attachment: initial\; background-origin: initial\; background-clip: initial\;"><span style="color: black\;"><span style="font-family: arial\, sans-serif\;">at the Village Green courtesy of </span></span><span style="font-family: arial\, sans-serif\;">Annie Royster Lenzke | <a href="http://www.DawnMcKennaGroup.com">Dawn McKenna Group</a></span></span><br />\n<br />\n<strong style="text-align: center\;"><span style="background-image: initial\; background-position: initial\; background-size: initial\; background-repeat: initial\; background-attachment: initial\; background-origin: initial\; background-clip: initial\;"><span style="color: green\;"><span style="font-family: arial\, sans-serif\;">2-4 PM | CRAFTS\, STORYTIME\, FACEPAINTING &amp\; MORE</span></span></span></strong><span style="text-align: center\;">&nbsp\;</span><span style="text-align: center\; background-image: initial\; background-position: initial\; background-size: initial\; background-repeat: initial\; background-attachment: initial\; background-origin: initial\; background-clip: initial\;"><span style="color: black\;"><span style="font-family: arial\, sans-serif\;">sponsored by&nbsp\;</span></span></span><span style="text-align: center\; background-image: initial\; background-position: initial\; background-size: initial\; background-repeat: initial\; background-attachment: initial\; background-origin: initial\; background-clip: initial\;"><span style="color: black\;"><span style="font-family: arial\, sans-serif\;">the&nbsp\;<a href="https://lakeblufflibrary.libcal.com/event/9564431"><span style="color: black\;">Lake Bluff Library</span></a></span></span></span><br />\n&nbsp\;<br />\n<strong><span style="background:white\;"><span style="color:green\;"><span style="font-family:arial\,sans-serif\;">5 PM | LIGHTING&nbsp\;CEREMONY</span></span></span></strong>&nbsp\;<span style="background:white\;"><span style="color:black\;"><span style="font-family:arial\,sans-serif\;">The infamous &lsquo\;light orbs&rsquo\; are turned on for the season!<br />\n<em>Music provided by LB Elementary Students\, LFHS Festival Brass&nbsp\;&amp\; the Lake Forest Civic Orchestra Musicians</em></span></span></span><br />\n<span style="color:#333333\;"><span style="font-family:arial\,sans-serif\;"><span style="font-size:12.0pt\;">&nbsp\;<br />\n&nbsp\;</span></span></span><strong><em><span style="color:#C00000\;"><span style="font-family:arial\,sans-serif\;"><span style="font-size:14.0pt\;">Check back for a list of specials &amp\; treats offered throughout town on Dec. 2!</span></span></span></em></strong><br />\n&nbsp\;<br />\n<br />\n&nbsp\;<strong><span style="color:#C00000\;"><span style="font-family:arial\,sans-serif\;"><span style="font-size:14.0pt\;">SUNDAY\, DECEMBER 3</span></span></span></strong><br />\n<br />\n<span style="font-size:14px\;"><strong><span style="color:green\;"><span style="font-family:arial\,sans-serif\;">11 AM &ndash\; 4 PM</span></span></strong><span style="color:green\;"><span style="font-family:arial\,sans-serif\;"> <strong>| </strong></span></span><strong><span style="color:green\;"><span style="font-family:arial\,sans-serif\;">HOLIDAY HOME TOUR&nbsp\;</span></span></strong><span style="color:black\;"><span style="font-family:arial\,sans-serif\;">presented by the&nbsp\;<a href="https://lakebluffhistory.org/"><span style="color:black\;">Lake Bluff History Museum</span></a></span></span></span><br />\n<br />\n<br />\n<span style="font-size:22px\;"><em><strong style="font-size: 14px\;"><span style="color:#c00000\;"><span style="font-family:arial\,sans-serif\;">HOLIDAY EVENT PARTNERS...</span></span></strong></em></span><br />\n<span style="font-size:14px\;"><strong style="font-size: 14px\;"><span style="font-family:arial\,sans-serif\;"><a href="https://www.lakeblufflibrary.org/"><span style="color:#008000\;">Lake Bluff Library</span></a><br />\n<a href="http://www.DawnMcKennaGroup.com"><span style="color:#008000\;">Annie Royster Lenzke\, Realtor&nbsp\;| Dawn McKenna Group</span></a><br />\n<a href="https://lakebluffhistory.org/"><span style="color:#008000\;">Lake Bluff History Museum</span></a><br />\n<a href="http://lakeforestbank.com"><span style="color:#008000\;">Lake Forest Bank &amp\; Trust</span></a><br />\n<span style="color:#008000\;">Lake Forest/Lake Bluff Chamber of Commerce</span></span></strong><br />\n<span style="font-family:arial\,sans-serif\;"><a href="https://www.lakebluff.org/"><span style="color:#008000\;"><strong>Village of Lake Bluff</strong></span></a></span></span></div>\n\n<div><br />\n<br />\n&nbsp\;</div>\n</div>\n
LOCATION:Downtown Lake Bluff
UID:e.1126.25516
SEQUENCE:3
DTSTAMP:20260421T133131Z
URL:https://business.lflbchamber.com/events/details/it-s-a-wonderful-life-in-lake-bluff-25516
END:VEVENT

END:VCALENDAR
