BEGIN:VCALENDAR
VERSION:2.0
PRODID:-//ChamberMaster//Event Calendar 2.0//EN
METHOD:PUBLISH
X-PUBLISHED-TTL:P3D
REFRESH-INTERVAL:P3D
CALSCALE:GREGORIAN
BEGIN:VEVENT
DTSTART:20200305T003000Z
DTEND:20200305T030000Z
X-MICROSOFT-CDO-ALLDAYEVENT:FALSE
SUMMARY:Italian Night - Let's Make Risotto!
DESCRIPTION:This is a demonstration class where you will learn to make staple Italian dishes and enjoy dinner afterwards. Dishes include: Pea pesto crostini\, shrimp and lemon risotto and coppa gelata alle ciliegie.
X-ALT-DESC;FMTTYPE=text/html:This is a demonstration class where you will learn to make staple Italian dishes and enjoy dinner afterwards. Dishes include: Pea pesto crostini\, shrimp and lemon risotto and coppa gelata alle ciliegie.
LOCATION:Gorton Community Center
UID:e.1126.18756
SEQUENCE:3
DTSTAMP:20260420T121646Z
URL:https://business.lflbchamber.com/events/details/italian-night-let-s-make-risotto-18756
END:VEVENT

END:VCALENDAR
