BEGIN:VCALENDAR
VERSION:2.0
PRODID:-//ChamberMaster//Event Calendar 2.0//EN
METHOD:PUBLISH
X-PUBLISHED-TTL:P3D
REFRESH-INTERVAL:P3D
CALSCALE:GREGORIAN
BEGIN:VEVENT
DTSTART:20250426T180000Z
DTEND:20250426T183000Z
X-MICROSOFT-CDO-ALLDAYEVENT:FALSE
SUMMARY:Jazz Storytime
DESCRIPTION:April is Jazz Appreciation Month! Dance and swing at this fun musical storytime featuring stories\, songs\, and activities that celebrate the jazz music and the people who make it.\n\nJazz Storytime for ages 0 - 8 with families.
X-ALT-DESC;FMTTYPE=text/html:<p><span style="font-size:11pt">April is Jazz Appreciation Month! Dance and swing at this fun musical storytime featuring stories\, songs\, and activities that celebrate the jazz music and the people who make it.</span></p>\n\n<p><strong>Jazz Storytime for ages 0 - 8 with families.</strong></p>\n
LOCATION:Lake Bluff Public Library 123 E. Scranton Ave. Lake Bluff\, IL. 60044
UID:e.1126.29990
SEQUENCE:3
DTSTAMP:20260424T041059Z
URL:https://business.lflbchamber.com/events/details/jazz-storytime-29990
END:VEVENT

END:VCALENDAR
