BEGIN:VCALENDAR
VERSION:2.0
PRODID:-//ChamberMaster//Event Calendar 2.0//EN
METHOD:PUBLISH
X-PUBLISHED-TTL:P3D
REFRESH-INTERVAL:P3D
CALSCALE:GREGORIAN
BEGIN:VEVENT
DTSTART:20220910T160000Z
DTEND:20220910T170000Z
X-MICROSOFT-CDO-ALLDAYEVENT:FALSE
SUMMARY:Jiggle Jam with Jodi Koplin
DESCRIPTION:Ages 0 - 8.\n\nJoin us for a fantastic Jiggle Jam family concert! This show is guaranteed to get the whole audience on their feet and singing and dancing along to Jodi Koplin's engaging imaginative tunes.
X-ALT-DESC;FMTTYPE=text/html:<p>Ages 0 - 8.</p>\n\n<p><span style="background-color:rgb(255\, 255\, 255)\; color:rgb(51\, 51\, 51)\; font-family:arial\,helvetica\,verdana\; font-size:12px">Join us for a fantastic Jiggle Jam family concert! This show is guaranteed to get the whole audience on their feet and singing and dancing along to Jodi Koplin&rsquo\;s engaging imaginative tunes.</span></p>\n
LOCATION:Lake Bluff Public Library 123 E. Scranton Ave. Lake Bluff\, IL. 60044
UID:e.1126.22387
SEQUENCE:3
DTSTAMP:20260426T040624Z
URL:https://business.lflbchamber.com/events/details/jiggle-jam-with-jodi-koplin-22387
END:VEVENT

END:VCALENDAR
