BEGIN:VCALENDAR
VERSION:2.0
PRODID:-//ChamberMaster//Event Calendar 2.0//EN
METHOD:PUBLISH
X-PUBLISHED-TTL:P3D
REFRESH-INTERVAL:P3D
CALSCALE:GREGORIAN
BEGIN:VEVENT
DTSTART:20220921T150000Z
DTEND:20220922T020000Z
X-MICROSOFT-CDO-ALLDAYEVENT:FALSE
SUMMARY:Job Prep Week (Online Program)
DESCRIPTION:Looking for help with job hunting? View these video courses during the week of September 19th to improve your skills with resumes\, cover letters\, and interviews. This is an online program. You will receive the video links with your completed registration.
X-ALT-DESC;FMTTYPE=text/html:<span style="background-color:rgb(255\, 255\, 255)\; color:rgb(51\, 51\, 51)\; font-family:arial\,helvetica\,verdana\; font-size:12px">Looking for help with job hunting? View these video courses during the week of September 19th to improve your skills with resumes\, cover letters\, and interviews. This is an online program. You will receive the video links with your completed registration.</span>
LOCATION:Lake Bluff Public Library 123 E. Scranton Ave. Lake Bluff\, IL. 60044
UID:e.1126.22484
SEQUENCE:3
DTSTAMP:20260426T040542Z
URL:https://business.lflbchamber.com/events/details/job-prep-week-online-program-09-21-2022-22484
END:VEVENT

END:VCALENDAR
