BEGIN:VCALENDAR
VERSION:2.0
PRODID:-//ChamberMaster//Event Calendar 2.0//EN
METHOD:PUBLISH
X-PUBLISHED-TTL:P3D
REFRESH-INTERVAL:P3D
CALSCALE:GREGORIAN
BEGIN:VEVENT
DTSTART:20210318T220000Z
DTEND:20210318T230000Z
X-MICROSOFT-CDO-ALLDAYEVENT:FALSE
SUMMARY:Join us for an interview with LifeWorking Coworking and Fresh Start Business Incubator on March 18th at 5 pm via Zoom
DESCRIPTION:Earlier this year\, LifeWorking Coworking and Fresh Start Business Incubator announced their Strategic Alliance.  \n\n The unique combination of LifeWorking community-centered places and FSBI proven incubator and accelerator models will result in a shared vision of innovators\, with a strong value proposition and distinctive resources to the community.\n\n\n\n The  interview with Steve Whittington\, Founder and CEO of LifeWorking Coworking\, and John Edgcomb\, President of Fresh Start Business Incubator\,  will share all their thoughts about this strategic partnership. Register here: .http://event.r20.constantcontact.com/register/event?oeidk=a07ehn65pgw3b048cb7&llr=5xkzeg6ab&showPage=true
X-ALT-DESC;FMTTYPE=text/html:<span style="color:black"><span style="font-family:lucida grande"><span style="font-size:10.5pt">Earlier this year\,&nbsp\;</span></span></span><span style="color:black"><a href="https://www.mylifeworking.com/" target="_blank"><span style="color:#3661BD"><span style="font-family:lucida grande"><span style="font-size:10.5pt">LifeWorking&nbsp\;Coworking</span></span></span></a></span><span style="color:black"><span style="font-family:lucida grande"><span style="font-size:10.5pt"> and </span></span></span><span style="color:black"><a href="https://www.freshstartbi.org/" target="_blank"><span style="color:#3661BD"><span style="font-family:lucida grande"><span style="font-size:10.5pt">Fresh Start Business Incubator</span></span></span></a></span><span style="color:black"><span style="font-family:lucida grande"><span style="font-size:10.5pt"> announced&nbsp\;their&nbsp\;</span></span></span><span style="color:black"><a href="http://finance.dailyherald.com/dailyherald/news/read/40859150/New_Business_Partnership_Helps_Position_Start" target="_blank"><span style="color:#3661BD"><span style="font-family:lucida grande"><span style="font-size:10.5pt">Strategic Alliance</span></span></span></a></span><span style="color:black"><span style="font-family:lucida grande"><span style="font-size:10.5pt">.&nbsp\;&nbsp\;</span></span></span><br />\n&nbsp\;<span style="font-size:10.5pt"><span style="font-family:lucida grande">The unique combination of&nbsp\;LifeWorking&nbsp\;community-centered places and&nbsp\;FSBI&nbsp\;proven&nbsp\;incubator and accelerator models&nbsp\;will&nbsp\;result in a&nbsp\;shared vision&nbsp\;of&nbsp\;innovators\,&nbsp\;with&nbsp\;a&nbsp\;strong&nbsp\;value proposition&nbsp\;and distinctive resources&nbsp\;to the community.</span></span><br />\n<br />\n&nbsp\;<span style="font-family:lucida grande"><span style="font-size:10.5pt">The&nbsp\; interview with </span></span><a href="https://www.linkedin.com/in/steven-whittington-6706963/" target="_blank"><span style="color:#3661BD"><span style="font-family:lucida grande"><span style="font-size:10.5pt">Steve Whittington</span></span></span></a><span style="font-family:lucida grande"><span style="font-size:10.5pt">\, Founder and CEO of LifeWorking Coworking\, and </span></span><a href="https://www.linkedin.com/in/johnedgcomb/" target="_blank"><span style="color:#3661BD"><span style="font-family:lucida grande"><span style="font-size:10.5pt">John Edgcomb</span></span></span></a><span style="font-family:lucida grande"><span style="font-size:10.5pt">\, President of Fresh Start Business Incubator\,&nbsp\; will share all their thoughts about this strategic partnership. Register here: .</span></span><a href="http://event.r20.constantcontact.com/register/event?oeidk=a07ehn65pgw3b048cb7&amp\;llr=5xkzeg6ab&amp\;showPage=true" style="text-indent:0.25in\;"><span style="font-size:11.0pt">http://event.r20.constantcontact.com/register/event?oeidk=a07ehn65pgw3b048cb7&amp\;llr=5xkzeg6ab&amp\;showPage=true</span></a><br />\n<br />\n&nbsp\;<br />\n<br />\n<br />\n&nbsp\;
LOCATION:
UID:e.1126.19952
SEQUENCE:3
DTSTAMP:20260425T214757Z
URL:https://business.lflbchamber.com/events/details/join-us-for-an-interview-with-lifeworking-coworking-and-fresh-start-business-incubator-on-march-18th-at-5-pm-via-zoom-19952
END:VEVENT

END:VCALENDAR
