BEGIN:VCALENDAR
VERSION:2.0
PRODID:-//ChamberMaster//Event Calendar 2.0//EN
METHOD:PUBLISH
X-PUBLISHED-TTL:P3D
REFRESH-INTERVAL:P3D
CALSCALE:GREGORIAN
BEGIN:VEVENT
DTSTART;VALUE=DATE:20240619
DTEND;VALUE=DATE:20240620
TRANSP:TRANSPARENT
X-MICROSOFT-CDO-ALLDAYEVENT:TRUE
SUMMARY:Juneteenth - No Summer School LB65
DESCRIPTION:Juneteenth - No Summer School\, Lake Bluff District 65
X-ALT-DESC;FMTTYPE=text/html:Juneteenth - No Summer School\, Lake Bluff District 65
LOCATION:
UID:e.1126.27519
SEQUENCE:3
DTSTAMP:20260424T010536Z
URL:https://business.lflbchamber.com/events/details/juneteenth-no-summer-school-lb65-27519
END:VEVENT

END:VCALENDAR
