BEGIN:VCALENDAR
VERSION:2.0
PRODID:-//ChamberMaster//Event Calendar 2.0//EN
METHOD:PUBLISH
X-PUBLISHED-TTL:P3D
REFRESH-INTERVAL:P3D
CALSCALE:GREGORIAN
BEGIN:VEVENT
DTSTART:20250421T210000Z
DTEND:20250421T220000Z
X-MICROSOFT-CDO-ALLDAYEVENT:FALSE
SUMMARY:K9 Reading Buddies
DESCRIPTION:Independent readers can sign up for a 15-minute session and read to a trained therapy dog.\n\nSponsored by the Friends of the Lake Bluff Library.\n\nK9 Reading Buddies is for ages 6 - 11.\n\nWe will have another K9 Reading Buddies program on April 21st.
X-ALT-DESC;FMTTYPE=text/html:<p>Independent readers can sign up for a 15-minute session and read to a trained therapy dog.</p>\n\n<p><em>Sponsored by the Friends of the Lake Bluff Library.</em></p>\n\n<p><strong>K9 Reading Buddies is for ages 6 - 11.</strong></p>\n\n<p><strong>We will have another K9 Reading Buddies program on April 21st.</strong></p>\n
LOCATION:Lake Bluff Public Library 123 E. Scranton Ave. Lake Bluff\, IL. 60044
UID:e.1126.29915
SEQUENCE:3
DTSTAMP:20260424T040824Z
URL:https://business.lflbchamber.com/events/details/k9-reading-buddies-04-21-2025-29915
END:VEVENT

END:VCALENDAR
