BEGIN:VCALENDAR
VERSION:2.0
PRODID:-//ChamberMaster//Event Calendar 2.0//EN
METHOD:PUBLISH
X-PUBLISHED-TTL:P3D
REFRESH-INTERVAL:P3D
CALSCALE:GREGORIAN
BEGIN:VEVENT
DTSTART:20231204T220000Z
DTEND:20231204T230000Z
X-MICROSOFT-CDO-ALLDAYEVENT:FALSE
SUMMARY:K9 Reading Buddies
DESCRIPTION:Independent readers can sign up for a 15-minute session and read to a trained therapy dog. Registration is required.\n\nK9 Reading Buddies is a 501(c)(3) non-profit organization in North Suburban Chicagoland that supplements literacy programs using reading teams of registered therapy dogs and qualified handlers to motivate kids to read.\n\nOur K9 Reading Buddies program is for ages 6 - 11. We will also have the K9 Reading Buddies at the library on Monday February 5th.
X-ALT-DESC;FMTTYPE=text/html:<p>Independent readers can sign up for a 15-minute session and read to a trained therapy dog. Registration is required.</p>\n\n<p>K9 Reading Buddies is a 501(c)(3) non-profit organization in North Suburban Chicagoland that supplements literacy programs using reading teams of registered therapy dogs and qualified handlers to motivate kids to read.</p>\n\n<p><strong>Our K9 Reading Buddies program is for ages 6 - 11. We will also have the K9 Reading Buddies at the library on Monday February 5th.</strong></p>\n\n<p>&nbsp\;</p>\n
LOCATION:Lake Bluff Public Library 123 E. Scranton Ave. Lake Bluff\, IL. 60044
UID:e.1126.25818
SEQUENCE:3
DTSTAMP:20260424T100418Z
URL:https://business.lflbchamber.com/events/details/k9-reading-buddies-12-04-2023-25818
END:VEVENT

END:VCALENDAR
