BEGIN:VCALENDAR
VERSION:2.0
PRODID:-//ChamberMaster//Event Calendar 2.0//EN
METHOD:PUBLISH
X-PUBLISHED-TTL:P3D
REFRESH-INTERVAL:P3D
CALSCALE:GREGORIAN
BEGIN:VEVENT
DTSTART:20190504T213000Z
DTEND:20190505T030000Z
X-MICROSOFT-CDO-ALLDAYEVENT:FALSE
SUMMARY:Kentucky Derby Party
DESCRIPTION:Join the Women's Board of Northwestern Medicine Lake Forest Hospital at its Derby themed fundraising event coinciding with the 145th running of the Kentucky Derby.
X-ALT-DESC;FMTTYPE=text/html:Join the Women&#39\;s Board of Northwestern Medicine Lake Forest Hospital at its Derby themed fundraising event coinciding with the 145th running of the Kentucky Derby.
LOCATION:Onwentsia Club 300 North Green Bay Road Lake Forest\, IL
UID:e.1126.16656
SEQUENCE:3
DTSTAMP:20260424T084623Z
URL:https://business.lflbchamber.com/events/details/kentucky-derby-party-16656
END:VEVENT

END:VCALENDAR
