BEGIN:VCALENDAR
VERSION:2.0
PRODID:-//ChamberMaster//Event Calendar 2.0//EN
METHOD:PUBLISH
X-PUBLISHED-TTL:P3D
REFRESH-INTERVAL:P3D
CALSCALE:GREGORIAN
BEGIN:VEVENT
DTSTART:20190507T233000Z
DTEND:20190508T010000Z
X-MICROSOFT-CDO-ALLDAYEVENT:FALSE
SUMMARY:KEYS TO EFFECTIVE CAREER NETWORKING
DESCRIPTION:Presented by: Stephen Kohler\, Executive & Career Coach\, CCPC\, Audira\n\nIn this session Stephen will help you develop your networking skills to boost your job search success. Learn the importance of using networking in your career search. Discover the key steps to designing and executing an effective networking strategy and practice real time networking role playing scenarios using your elevator pitch. You will walk away with new skills to help you get out there and network effectively!\n\nStephen Kohler\, the founder and CEO of Audira\, isn?t your ordinary executive coach or strategic thinker. He is a University of Chicago MBA-trained executive who led global marketing and strategy departments for several blue chip and industry-leading brands such as Weber\, Kraft\, and Shure. \n\nOn top of an accomplished business background and an immense network of functional and industry professionals\, Kohler holds a BA in philosophy from Northwestern and is a passionate musician. Stephen knows what magic can happen when people are all listening to each other and contributing.
X-ALT-DESC;FMTTYPE=text/html:Presented by:&nbsp\;<span style="font-family:tahoma\,sans-serif"><span style="font-size:12.0pt">Stephen Kohler\, Executive &amp\; Career Coach\, CCPC\, Audira</span></span><br>\n<span style="color:windowtext"><span style="font-family:tahoma\,sans-serif">In this session Stephen will help you develop your networking skills to boost your job search success. Learn the importance of using networking in your career search. Discover the key steps to designing and executing an effective networking strategy and practice real time networking role playing scenarios using your elevator pitch. You will walk away with new skills to help you get out there and network effectively!</span></span><br>\n<span style="color:windowtext"><span style="font-family:tahoma\,sans-serif">Stephen Kohler\, the founder and CEO of Audira\, isn?t your ordinary executive coach or strategic thinker. He is a University of Chicago MBA-trained executive who led global marketing and strategy departments for several blue chip and industry-leading brands such as Weber\, Kraft\, and Shure. </span></span><br>\n<span style="font-family:tahoma\,sans-serif">On top of an accomplished business background and an immense network of functional and industry professionals\, Kohler holds a BA in philosophy from Northwestern and is a passionate musician. Stephen knows what magic can happen when people are all listening to each other and contributing.</span><br>\n&nbsp\;
LOCATION:Career Resource Center Grove Cultural Campus 40 E. Old Mill Road Lake Forest\, IL 60045
UID:e.1126.17827
SEQUENCE:3
DTSTAMP:20260424T071914Z
URL:https://business.lflbchamber.com/events/details/keys-to-effective-career-networking-05-07-2019-17827
END:VEVENT

END:VCALENDAR
