BEGIN:VCALENDAR
VERSION:2.0
PRODID:-//ChamberMaster//Event Calendar 2.0//EN
METHOD:PUBLISH
X-PUBLISHED-TTL:P3D
REFRESH-INTERVAL:P3D
CALSCALE:GREGORIAN
BEGIN:VEVENT
DTSTART:20200307T170000Z
DTEND:20200307T180000Z
X-MICROSOFT-CDO-ALLDAYEVENT:FALSE
SUMMARY:Kids Floral Workshop Spring Flowers Vased
DESCRIPTION:Join Eileen Weber\, AAF as she leads the students in creating a spring vased arrangement. Using fresh seasonal flowers from around the world\, the students will enjoy this hands on workshop. Ages 4 - 12 recommended. Workshop fee $35 Please register online\, space is limited
X-ALT-DESC;FMTTYPE=text/html:Join Eileen Weber\, AAF as she leads the students in creating a spring vased arrangement. Using fresh seasonal flowers from around the world\, the students will enjoy this hands on workshop. Ages 4 - 12 recommended. Workshop fee $35 Please register online\, space is limited
LOCATION:Lake Forest Flowers 546 N. Western Ave\, Lake Forest
UID:e.1126.18964
SEQUENCE:3
DTSTAMP:20260420T122111Z
URL:https://business.lflbchamber.com/events/details/kids-floral-workshop-spring-flowers-vased-18964
END:VEVENT

END:VCALENDAR
