BEGIN:VCALENDAR
VERSION:2.0
PRODID:-//ChamberMaster//Event Calendar 2.0//EN
METHOD:PUBLISH
X-PUBLISHED-TTL:P3D
REFRESH-INTERVAL:P3D
CALSCALE:GREGORIAN
BEGIN:VEVENT
DTSTART:20220915T210000Z
DTEND:20220915T100000Z
X-MICROSOFT-CDO-ALLDAYEVENT:FALSE
SUMMARY:Kids Knitting Club
DESCRIPTION:Ages 8 - 12.\n\nAre you a beginning or intermediate knitter? Join Eliza on the third Thursday of each month to knit\, chat\, learn new techniques\, show off your work\, and problem solve. Bring your knitting and your questions!
X-ALT-DESC;FMTTYPE=text/html:<p>Ages 8 - 12.</p>\n\n<p><span style="background-color:rgb(255\, 255\, 255)\; color:rgb(51\, 51\, 51)\; font-family:arial\,helvetica\,sans-serif\; font-size:12px">Are you a beginning or intermediate knitter? Join Eliza on the third Thursday of each month to knit\, chat\, learn new techniques\, show off your work\, and problem solve. Bring your knitting and your questions!</span></p>\n
LOCATION:Lake Bluff Public Library 123 E. Scranton Ave. Lake Bluff\, IL. 60044
UID:e.1126.22434
SEQUENCE:3
DTSTAMP:20260426T041054Z
URL:https://business.lflbchamber.com/events/details/kids-knitting-club-09-15-2022-22434
END:VEVENT

END:VCALENDAR
