BEGIN:VCALENDAR
VERSION:2.0
PRODID:-//ChamberMaster//Event Calendar 2.0//EN
METHOD:PUBLISH
X-PUBLISHED-TTL:P3D
REFRESH-INTERVAL:P3D
CALSCALE:GREGORIAN
BEGIN:VEVENT
DTSTART:20200516T160000Z
DTEND:20200516T170000Z
X-MICROSOFT-CDO-ALLDAYEVENT:FALSE
SUMMARY:Kids: Succulent Garden Workshop
DESCRIPTION:Join Eileen Weber\, AAF in creating your own succulent garden workshop. From live plants\, to learning about soil mixtures\, mosses\, pebbles and watering care - we'll cover it all! Advance registration requested as space is limited. Each participant will take their tabletop garden home.
X-ALT-DESC;FMTTYPE=text/html:Join Eileen Weber\, AAF in creating your own succulent garden workshop. From live plants\, to learning about soil mixtures\, mosses\, pebbles and watering care - we&#39\;ll cover it all! Advance registration requested as space is limited. Each participant will take their tabletop garden home.
LOCATION:Lake Forest Flowers 546 N. Western Ave Lake Forest
UID:e.1126.18968
SEQUENCE:3
DTSTAMP:20260425T215725Z
URL:https://business.lflbchamber.com/events/details/kids-succulent-garden-workshop-18968
END:VEVENT

END:VCALENDAR
