BEGIN:VCALENDAR
VERSION:2.0
PRODID:-//ChamberMaster//Event Calendar 2.0//EN
METHOD:PUBLISH
X-PUBLISHED-TTL:P3D
REFRESH-INTERVAL:P3D
CALSCALE:GREGORIAN
BEGIN:VEVENT
DTSTART:20190704T163000Z
DTEND:20190704T190000Z
X-MICROSOFT-CDO-ALLDAYEVENT:FALSE
SUMMARY:Kiwanis Cookout
DESCRIPTION:Celebrate your 4th of July by stopping by for the Kiwanis 4th Annual Cookout! Hamburgers\, Cheeseburgers\, Hot Dogs...meals include chips and a drink. Village Green\, DON'T MISS OUT! Happy 4th of July Lake Forest and Lake Bluff!
X-ALT-DESC;FMTTYPE=text/html:Celebrate your 4th of July by stopping by for the Kiwanis 4th Annual Cookout! Hamburgers\, Cheeseburgers\, Hot Dogs...meals include chips and a drink. Village Green\, DON&#39\;T MISS OUT! Happy 4th of July Lake Forest and Lake Bluff!
LOCATION:Village Green\, Lake Bluff
UID:e.1126.17884
SEQUENCE:3
DTSTAMP:20260424T043533Z
URL:https://business.lflbchamber.com/events/details/kiwanis-cookout-17884
END:VEVENT

END:VCALENDAR
