BEGIN:VCALENDAR
VERSION:2.0
PRODID:-//ChamberMaster//Event Calendar 2.0//EN
METHOD:PUBLISH
X-PUBLISHED-TTL:P3D
REFRESH-INTERVAL:P3D
CALSCALE:GREGORIAN
BEGIN:VEVENT
DTSTART:20240704T120000Z
DTEND:20240704T144500Z
X-MICROSOFT-CDO-ALLDAYEVENT:FALSE
SUMMARY:Kiwanis Fourth of July Pancake Breakfast
DESCRIPTION:Stop by for breakfast and stay for the parade. This year marks the 51st Fourth of July pancake breakfast hosted by the Kiwanis Club of Lake Bluff & Lake Forest. Breakfast includes pancakes\, sausage\, coffee\, OJ\, donut holes and fruit. Come early as we start serving at 7:00am and finish at 9:45am just before the parade begins. Cost: $10\, $5 for ages under 10.
X-ALT-DESC;FMTTYPE=text/html:Stop by for breakfast and stay for the parade. This year marks the 51st Fourth of July pancake breakfast hosted by the Kiwanis Club of Lake Bluff &amp\; Lake Forest. Breakfast includes pancakes\, sausage\, coffee\, OJ\, donut holes and fruit. Come early as we start serving at 7:00am and finish at 9:45am just before the parade begins. Cost: $10\, $5 for ages under 10.
LOCATION:Village Green\, Lake Bluff (E. Scranton Avenue & Sheridan Road)
UID:e.1126.26645
SEQUENCE:3
DTSTAMP:20260423T205547Z
URL:https://business.lflbchamber.com/events/details/kiwanis-fourth-of-july-pancake-breakfast-26645
END:VEVENT

END:VCALENDAR
