BEGIN:VCALENDAR
VERSION:2.0
PRODID:-//ChamberMaster//Event Calendar 2.0//EN
METHOD:PUBLISH
X-PUBLISHED-TTL:P3D
REFRESH-INTERVAL:P3D
CALSCALE:GREGORIAN
BEGIN:VEVENT
DTSTART:20190704T120000Z
DTEND:20190704T144500Z
X-MICROSOFT-CDO-ALLDAYEVENT:FALSE
SUMMARY:Kiwanis Pancake Breakfast
DESCRIPTION:Celebrate your 4th of July by beginning your day with our 48th Annual Pancake Breakfast! Happy 4th of July Lake Forest and Lake Bluff!
X-ALT-DESC;FMTTYPE=text/html:Celebrate your 4th of July by beginning your day with our 48th Annual Pancake Breakfast! Happy 4th of July Lake Forest and Lake Bluff!
LOCATION:Village Green\, Lake Bluff
UID:e.1126.17883
SEQUENCE:3
DTSTAMP:20260424T043446Z
URL:https://business.lflbchamber.com/events/details/kiwanis-pancake-breakfast-17883
END:VEVENT

END:VCALENDAR
