BEGIN:VCALENDAR
VERSION:2.0
PRODID:-//ChamberMaster//Event Calendar 2.0//EN
METHOD:PUBLISH
X-PUBLISHED-TTL:P3D
REFRESH-INTERVAL:P3D
CALSCALE:GREGORIAN
BEGIN:VEVENT
DTSTART:20190315T000000Z
DTEND:20190315T010000Z
X-MICROSOFT-CDO-ALLDAYEVENT:FALSE
SUMMARY:Knitwits
DESCRIPTION:Join Martha for Knitwits\, a group for beginning knitters. We'll meet on the second Thursday of each month to knit\, chat\, and learn new techniques. Bring your knitting and your questions!\n\n\n\nRegistration is not required\; however\, we always recommend registering so that we can ensure we have enough seats and that the room is adequately setup. Program registrants can opt to receive a reminder email 3 days before the start of the program.
X-ALT-DESC;FMTTYPE=text/html:Join Martha for Knitwits\, a group for beginning knitters. We&rsquo\;ll meet on the second Thursday of each month to knit\, chat\, and learn new techniques. Bring your knitting and your questions!<br />\n<br />\n<span style="color:rgb(0\, 0\, 0)\; font-family:arial\,sans-serif\; font-size:14.0085px">Registration is not required\; however\, we always recommend registering so that we can ensure we have enough seats and that the room is adequately setup. Program registrants can opt to receive a reminder email 3 days before the start of the program.</span>
LOCATION:Lake Bluff Public Library 123 E Scranton Ave. Lake Bluff\, IL 60044
UID:e.1126.17625
SEQUENCE:3
DTSTAMP:20260424T100200Z
URL:https://business.lflbchamber.com/events/details/knitwits-03-14-2019-17625
END:VEVENT

END:VCALENDAR
