BEGIN:VCALENDAR
VERSION:2.0
PRODID:-//ChamberMaster//Event Calendar 2.0//EN
METHOD:PUBLISH
X-PUBLISHED-TTL:P3D
REFRESH-INTERVAL:P3D
CALSCALE:GREGORIAN
BEGIN:VEVENT
DTSTART:20220909T000000Z
DTEND:20220909T020000Z
X-MICROSOFT-CDO-ALLDAYEVENT:FALSE
SUMMARY:Knitwits
DESCRIPTION:Join us for Knitwits\, a group for knitters. We'll meet on the second Thursday of each month to knit\, chat\, learn new techniques\, and problem solve. Bring your knitting and your questions!\n\nRegistration is not required for this event\, but you can sign up if you would like to receive a reminder email 1 day before the program.
X-ALT-DESC;FMTTYPE=text/html:<p>Join us&nbsp\;for Knitwits\, a group for knitters. We&rsquo\;ll meet on the second Thursday of each month to knit\, chat\, learn new techniques\, and problem solve. Bring your knitting and your questions!</p>\n\n<p>Registration is not required for this event\, but you can sign up if you would like to receive a reminder email 1 day before the program.</p>\n
LOCATION:Lake Bluff Public Library 123 E. Scranton Ave. Lake Bluff\, IL. 60044
UID:e.1126.22384
SEQUENCE:3
DTSTAMP:20260426T040614Z
URL:https://business.lflbchamber.com/events/details/knitwits-09-08-2022-22384
END:VEVENT

END:VCALENDAR
