BEGIN:VCALENDAR
VERSION:2.0
PRODID:-//ChamberMaster//Event Calendar 2.0//EN
METHOD:PUBLISH
X-PUBLISHED-TTL:P3D
REFRESH-INTERVAL:P3D
CALSCALE:GREGORIAN
BEGIN:VEVENT
DTSTART:20210925T220000Z
DTEND:20210926T010000Z
X-MICROSOFT-CDO-ALLDAYEVENT:FALSE
SUMMARY:Lake Bluff 125th Birthday Bash
DESCRIPTION:Bring your picnic blankets and join us for a community celebration 126 years in the making! Lake Forest Bank and Trust\, Lake Bluff 125 Committee\, Lake Bluff Public Library\, Lake Bluff Park District and Golf Visions Management\, Inc. are proud to present the Lake Bluff 125 Birthday Bash. There will be fireworks sponsored by ELCO Mutual\, beverages available for purchase from the Lake Bluff Brewing Co. and music by Bushwood sponsored by Griffith\, Grant & Lackie Group with Compass Real Estate. Northwestern Medicine is the official presenting sponsor of the Village of Lake Bluff 125 events.\n\n\n\nSchedule of Events:\n\n5pm: Picnic on the grass\, buy drinks offered by Lake Bluff Brewing Co.\, smile at the complimentary photo booth\, & much more!\n\n5:45pm: 125 Birthday Cake cutting sponsored by Nielsen-Massey Vanillas\n\n6pm: Bushwood performs. The GGL Group/Compass is sponsoring the band and drink tent.\n\n7:30pm: Firework Extravaganza sponsored by ELCO Mutual Life & Annuity
X-ALT-DESC;FMTTYPE=text/html:<span style="background-color:rgb(255\, 255\, 255)\; color:rgb(5\, 5\, 5)\; font-family:segoe ui\,segoe wp\,segoe ui wpc\,tahoma\,arial\,sans-serif\; font-size:15px">Bring your picnic blankets and join us for a community celebration 126 years in the making! Lake Forest Bank and Trust\, Lake Bluff 125 Committee\, Lake Bluff Public Library\, Lake Bluff Park District and Golf Visions Management\, Inc. are proud to present the Lake Bluff 125 Birthday Bash. There will be fireworks sponsored by ELCO Mutual\, beverages available for purchase from the Lake Bluff Brewing Co. and music by Bushwood sponsored by Griffith\, Grant &amp\; Lackie Group with Compass Real Estate. Northwestern Medicine is the official presenting sponsor of the Village of Lake Bluff 125 events.</span><br />\n<br />\n<span style="background-color:rgb(255\, 255\, 255)\; color:rgb(5\, 5\, 5)\; font-family:segoe ui\,segoe wp\,segoe ui wpc\,tahoma\,arial\,sans-serif\; font-size:15px">Schedule of Events:</span><br />\n<span style="background-color:rgb(255\, 255\, 255)\; color:rgb(5\, 5\, 5)\; font-family:segoe ui\,segoe wp\,segoe ui wpc\,tahoma\,arial\,sans-serif\; font-size:15px">5pm: Picnic on the grass\, buy drinks offered by Lake Bluff Brewing Co.\, smile at the complimentary photo booth\, &amp\; much more!</span><br />\n<span style="background-color:rgb(255\, 255\, 255)\; color:rgb(5\, 5\, 5)\; font-family:segoe ui\,segoe wp\,segoe ui wpc\,tahoma\,arial\,sans-serif\; font-size:15px">5:45pm: 125 Birthday Cake cutting sponsored by Nielsen-Massey Vanillas</span><br />\n<span style="background-color:rgb(255\, 255\, 255)\; color:rgb(5\, 5\, 5)\; font-family:segoe ui\,segoe wp\,segoe ui wpc\,tahoma\,arial\,sans-serif\; font-size:15px">6pm: Bushwood performs. The GGL Group/Compass is sponsoring the band and drink tent.</span><br />\n<span style="background-color:rgb(255\, 255\, 255)\; color:rgb(5\, 5\, 5)\; font-family:segoe ui\,segoe wp\,segoe ui wpc\,tahoma\,arial\,sans-serif\; font-size:15px">7:30pm: Firework Extravaganza sponsored by ELCO Mutual Life &amp\; Annuity</span>
LOCATION:Lake Bluff Park District 355 W. Washington Ave. Lake Bluff\, IL. 60044
UID:e.1126.20810
SEQUENCE:3
DTSTAMP:20260422T235843Z
URL:https://business.lflbchamber.com/events/details/lake-bluff-125th-birthday-bash-20810
END:VEVENT

END:VCALENDAR
