BEGIN:VCALENDAR
VERSION:2.0
PRODID:-//ChamberMaster//Event Calendar 2.0//EN
METHOD:PUBLISH
X-PUBLISHED-TTL:P3D
REFRESH-INTERVAL:P3D
CALSCALE:GREGORIAN
BEGIN:VEVENT
DTSTART:20240704T150000Z
DTEND:20240704T170000Z
X-MICROSOFT-CDO-ALLDAYEVENT:FALSE
SUMMARY:Lake Bluff 4th of July Parade
DESCRIPTION:2024 Parade Theme - Stars\, Stripes and Paw-triots\n\nA child running through our Village Green\, with no care in the world and trailed by its faithful friend a dog.  Such is the core image of our village's logo\, encapsulating a stream of qualities we all aspire to enjoy while living in Lake Bluff:  freedom\, loyalty\, faithfulness\, protection\, companionship\, friendship.  In our 2024 parade theme "Stars Stripes and Paw-triots\," we celebrate the special place these four-legged furry friends hold in our hearts and in our town.  Pick up a stick with us at a Doggie Library as we stroll down the sidewalk.  Catch a glimpse of the many beautifully decorated "Dogs on the Bluff" public works of art standing sentry on porches and in businesses\, all created to celebrate the 125th anniversary of our village's founding.  Most importantly\, stop and meet that new furry friend at the end of a leash that greets you on your walk about town.  Who knows its owner and you just might become new\, life-long friends. - Written By Shane Tytenicz
X-ALT-DESC;FMTTYPE=text/html:<div class="fe-block fe-block-yui_3_17_2_1_1707097357330_22051" style="box-sizing: border-box\; grid-area: 1 / 2 / 15 / 26\; z-index: 1\; color: rgb(0\, 0\, 0)\; font-family: Poppins\; font-size: 16px\; mix-blend-mode: normal\;">\n<div class="sqs-block html-block sqs-block-html" data-blend-mode="NORMAL" data-block-type="2" data-border-radii="{&quot\;topLeft&quot\;:{&quot\;unit&quot\;:&quot\;px&quot\;\,&quot\;value&quot\;:0.0}\,&quot\;topRight&quot\;:{&quot\;unit&quot\;:&quot\;px&quot\;\,&quot\;value&quot\;:0.0}\,&quot\;bottomLeft&quot\;:{&quot\;unit&quot\;:&quot\;px&quot\;\,&quot\;value&quot\;:0.0}\,&quot\;bottomRight&quot\;:{&quot\;unit&quot\;:&quot\;px&quot\;\,&quot\;value&quot\;:0.0}}" id="block-yui_3_17_2_1_1707097357330_22051" style="box-sizing: border-box\; position: relative\; height: 468.5px\; padding-top: 0px\; padding-bottom: 0px\; clear: none\; border-color: var(--tweak-text-block-stroke-color)\; display: flex\; width: 879.625px\; flex-direction: column\; justify-content: flex-start\;">\n<div class="sqs-block-content" style="box-sizing: border-box\; outline: none\;">\n<div class="sqs-html-content" style="box-sizing: border-box\; outline: none\; overflow-wrap: break-word\; margin-top: 0px\; margin-bottom: 0px\;">\n<h4 style="box-sizing: border-box\; margin: 0px 0px 0.5rem\; font-family: var(--heading-font-font-family)\; font-style: var(--heading-font-font-style)\; letter-spacing: var(--heading-font-letter-spacing)\; text-transform: var(--heading-font-text-transform)\; font-size: 1.5rem\; color: var(--headingSmallColor)\; overflow-wrap: break-word\; white-space-collapse: preserve\;">2024 Parade Theme - Stars\, Stripes and Paw-triots</h4>\n\n<p style="box-sizing: border-box\; margin: 0px\; line-height: var(--body-font-line-height)\; overflow-wrap: break-word\; white-space-collapse: preserve\;"><em style="box-sizing: border-box\; overflow-wrap: break-word\;">A child running through our Village Green\, with no care in the world and trailed by its faithful friend&mdash\;a dog.</em>&nbsp\; Such is the core image of our village&rsquo\;s logo\, encapsulating a stream of qualities we all aspire to enjoy while living in Lake Bluff:&nbsp\; freedom\, loyalty\, faithfulness\, protection\, companionship\, friendship.&nbsp\; In our 2024 parade theme &ldquo\;Stars Stripes and Paw-triots\,&rdquo\; we celebrate the special place these four-legged furry friends hold in our hearts and in our town.&nbsp\; Pick up a stick with us at a Doggie Library as we stroll down the sidewalk.&nbsp\; Catch a glimpse of the many beautifully decorated &ldquo\;Dogs on the Bluff&rdquo\; public works of art standing sentry on porches and in businesses\, all created to celebrate the 125th&nbsp\;anniversary of our village&rsquo\;s founding.&nbsp\; Most importantly\, stop and meet that new furry friend at the end of a leash that greets you on your walk about town.&nbsp\; Who knows&mdash\;its owner and you just might become new\, life-long friends.&nbsp\;- Written By Shane Tytenicz</p>\n</div>\n</div>\n</div>\n</div>\n\n<div class="fe-block fe-block-yui_3_17_2_1_1715954562622_3406" style="box-sizing: border-box\; grid-area: 1 / 2 / 3 / 8\; z-index: 3\; color: rgb(0\, 0\, 0)\; font-family: Poppins\; font-size: 16px\; mix-blend-mode: normal\;">\n<div class="sqs-block html-block sqs-block-html" data-blend-mode="NORMAL" data-block-type="2" data-border-radii="{&quot\;topLeft&quot\;:{&quot\;unit&quot\;:&quot\;px&quot\;\,&quot\;value&quot\;:0.0}\,&quot\;topRight&quot\;:{&quot\;unit&quot\;:&quot\;px&quot\;\,&quot\;value&quot\;:0.0}\,&quot\;bottomLeft&quot\;:{&quot\;unit&quot\;:&quot\;px&quot\;\,&quot\;value&quot\;:0.0}\,&quot\;bottomRight&quot\;:{&quot\;unit&quot\;:&quot\;px&quot\;\,&quot\;value&quot\;:0.0}}" id="block-yui_3_17_2_1_1715954562622_3406" style="box-sizing: border-box\; position: relative\; height: 57.5px\; padding-top: 0px\; padding-bottom: 0px\; clear: none\; border-color: var(--tweak-text-block-stroke-color)\; display: flex\; width: 211.656px\; flex-direction: column\; justify-content: flex-start\;">\n<div class="sqs-block-content" style="box-sizing: border-box\; outline: none\;">\n<div class="sqs-html-content" style="box-sizing: border-box\; outline: none\; overflow-wrap: break-word\; margin-top: 0px\; margin-bottom: 0px\;">&nbsp\;</div>\n</div>\n</div>\n</div>\n\n<div class="fe-block fe-block-yui_3_17_2_1_1707097357330_24858" style="box-sizing: border-box\; grid-area: 13 / 4 / 24 / 24\; z-index: 2\; color: rgb(0\, 0\, 0)\; font-family: Poppins\; font-size: 16px\;">\n<div class="sqs-block code-block sqs-block-code" data-block-type="23" id="block-yui_3_17_2_1_1707097357330_24858" style="box-sizing: border-box\; position: relative\; height: 365.75px\; padding-top: 0px\; padding-bottom: 0px\; display: flex\; width: 731.188px\; flex-direction: column\; justify-content: flex-start\; clear: both\;">\n<div class="sqs-block-content" style="box-sizing: border-box\;">\n<div class="jumbotron bg-light" style="box-sizing: border-box\; background-image: initial\; background-position: initial\; background-size: initial\; background-repeat: initial\; background-attachment: initial\; background-origin: initial\; background-clip: initial\; background-color: rgb(248\, 249\, 250) !important\; padding: 4rem 2rem\; margin-bottom: 2rem\; border-radius: 6px\;">\n<div class="container" style="box-sizing: border-box\; width: 667.188px\; padding-right: 15px\; padding-left: 15px\; margin-right: auto\; margin-left: auto\; max-width: 1140px\;">&nbsp\;</div>\n</div>\n</div>\n</div>\n</div>\n
LOCATION:Village of Lake Bluff
UID:e.1126.26697
SEQUENCE:3
DTSTAMP:20260423T205546Z
URL:https://business.lflbchamber.com/events/details/lake-bluff-4th-of-july-parade-26697
END:VEVENT

END:VCALENDAR
