BEGIN:VCALENDAR
VERSION:2.0
PRODID:-//ChamberMaster//Event Calendar 2.0//EN
METHOD:PUBLISH
X-PUBLISHED-TTL:P3D
REFRESH-INTERVAL:P3D
CALSCALE:GREGORIAN
BEGIN:VEVENT
DTSTART:20230527T220000Z
DTEND:20230528T040000Z
X-MICROSOFT-CDO-ALLDAYEVENT:FALSE
SUMMARY:Lake Bluff Brewing Block Party
DESCRIPTION:We are shutting down Scranton Ave. and having a live band. Beer\, drinks\, and food will be available on the street for purchase. You can sit outside the brewery or bring a blanket/lawn chair and sit in The Village Green.
X-ALT-DESC;FMTTYPE=text/html:We are shutting down Scranton Ave. and having a live band. Beer\, drinks\, and food will be available on the street for purchase. You can sit outside the brewery or bring a blanket/lawn chair and sit in The Village Green.
LOCATION:
UID:e.1126.24655
SEQUENCE:3
DTSTAMP:20260422T000027Z
URL:https://business.lflbchamber.com/events/details/lake-bluff-brewing-block-party-24655
END:VEVENT

END:VCALENDAR
