BEGIN:VCALENDAR
VERSION:2.0
PRODID:-//ChamberMaster//Event Calendar 2.0//EN
METHOD:PUBLISH
X-PUBLISHED-TTL:P3D
REFRESH-INTERVAL:P3D
CALSCALE:GREGORIAN
BEGIN:VEVENT
DTSTART:20240607T120000Z
DTEND:20240607T170000Z
X-MICROSOFT-CDO-ALLDAYEVENT:FALSE
SUMMARY:Lake Bluff Farmer's Market
DESCRIPTION:Lake Bluff Farmer's Market\n\nThe 2024 Farmers Market will run on Friday mornings from June 7 through October 11\, 7:00 am-noon. Along with shopping enjoyment\, the Market provides live music and children's entertainment.
X-ALT-DESC;FMTTYPE=text/html:Lake Bluff Farmer&#39\;s Market<br />\nThe 2024 Farmers Market will run on Friday mornings from June 7 through October 11\, 7:00 am-noon. Along with shopping enjoyment\, the Market provides live music and children&#39\;s entertainment.
LOCATION:Lake Bluff Village Green
UID:e.1126.27249
SEQUENCE:3
DTSTAMP:20260423T234136Z
URL:https://business.lflbchamber.com/events/details/lake-bluff-farmer-s-market-27249
END:VEVENT

END:VCALENDAR
