BEGIN:VCALENDAR
VERSION:2.0
PRODID:-//ChamberMaster//Event Calendar 2.0//EN
METHOD:PUBLISH
X-PUBLISHED-TTL:P3D
REFRESH-INTERVAL:P3D
CALSCALE:GREGORIAN
BEGIN:VEVENT
DTSTART:20240622T190000Z
DTEND:20240622T220000Z
X-MICROSOFT-CDO-ALLDAYEVENT:FALSE
SUMMARY:Lake Bluff History Museum Auto Show
DESCRIPTION:The Auto Show transforms the village's downtown area into a showcase for scores of unique and beautifully maintained cars from the early 1900s to 1980. Car brands include everything from Studebaker\, Porsche\, Jaguar and Rolls Royce to Chevy\, Dodge and Ford.\n\nCollectors of cars dating up to 1980 are invited to register their vehicle at this link. We strongly suggest that you register online prior to the event\, but those wanting to register a vehicle the day of the event should come to the sign-in desk in front of Lake Bluff History Museum\, 127 E. Scranton Avenue\, by 1 pm Saturday\, June 22.\n\nThere is no charge to enter the Auto Show\, and the event is family friendly. Parking is available at the Lake Bluff Train Station.
X-ALT-DESC;FMTTYPE=text/html:<p style="box-sizing: inherit\; margin-top: 0px\; margin-bottom: 1.5em\; color: rgb(138\, 137\, 137)\; font-family: vegurregular\, Arial\, sans-serif\; font-size: 13.6px\;"><span style="color:#000000\;">The Auto Show transforms the village&rsquo\;s downtown area into a showcase for scores of unique and beautifully maintained cars from the early 1900s to 1980. Car brands include everything from Studebaker\, Porsche\, Jaguar and Rolls Royce to Chevy\, Dodge and Ford.</span></p>\n\n<p style="box-sizing: inherit\; margin-top: 0px\; margin-bottom: 1.5em\; color: rgb(138\, 137\, 137)\; font-family: vegurregular\, Arial\, sans-serif\; font-size: 13.6px\;"><span style="color:#000000\;">Collectors of cars dating up to 1980 are invited to&nbsp\;</span><a href="https://lakebluffhistory.org/exhibitor-registration/" style="box-sizing: inherit\; color: rgb(66\, 133\, 244)\; text-decoration-line: none\; background-color: transparent\; touch-action: manipulation\;"><span style="color:#000000\;">register their vehicle at this link</span></a><span style="color:#000000\;">. We strongly suggest that you register online prior to the event\, but those wanting to register a vehicle the day of the event should come to the sign-in desk in front of Lake Bluff History Museum\, 127 E. Scranton Avenue\, by 1 pm Saturday\, June 22.</span></p>\n\n<p style="box-sizing: inherit\; margin-top: 0px\; margin-bottom: 1.5em\; color: rgb(138\, 137\, 137)\; font-family: vegurregular\, Arial\, sans-serif\; font-size: 13.6px\;"><span style="color:#000000\;">There is no charge to enter the Auto Show\, and the event is family friendly. Parking is available at the Lake Bluff Train Station.</span></p>\n
LOCATION:
UID:e.1126.26714
SEQUENCE:3
DTSTAMP:20260424T010737Z
URL:https://business.lflbchamber.com/events/details/lake-bluff-history-museum-auto-show-26714
END:VEVENT

END:VCALENDAR
