BEGIN:VCALENDAR
VERSION:2.0
PRODID:-//ChamberMaster//Event Calendar 2.0//EN
METHOD:PUBLISH
X-PUBLISHED-TTL:P3D
REFRESH-INTERVAL:P3D
CALSCALE:GREGORIAN
BEGIN:VEVENT
DTSTART:20231203T170000Z
DTEND:20231203T220000Z
X-MICROSOFT-CDO-ALLDAYEVENT:FALSE
SUMMARY:Lake Bluff History Museum Holiday Home Tour
DESCRIPTION:Charm! That's what Lake Bluff is known for\, and it doesn't get more charming than the Lake Bluff History Museum Holiday Home Tour.  The 2023 tour of local homes decked out in holiday finery takes place from 11 am to 4 pm on Sunday\, December 3. It's a great opportunity to experience homeowners' unique styles and gather ideas for your own decor.\n\nFeatured houses span the decades and architectural styles. The tour also includes two Holiday Boutiques in historic homes\, where guests will find art\, jewelry\, clothing and decor sourced and in many cases created by local artisans.\n\nAnd visitors will be able to enjoy the charms of the village's uptown shops\, businesses\, restaurants and cafes\, as many will be open for holiday shopping\, drinks and dining.
X-ALT-DESC;FMTTYPE=text/html:<p style="box-sizing: inherit\; margin-top: 0px\; margin-bottom: 1.5em\; color: rgb(138\, 137\, 137)\; font-family: vegurregular\, Arial\, sans-serif\; font-size: 13.6px\;"><span style="color:#000000\;"><span style="box-sizing: inherit\;">Charm! That&rsquo\;s what Lake Bluff is known for\, and it doesn&rsquo\;t get more charming than the Lake Bluff History Museum Holiday Home Tour.&nbsp\; The 2023 tour of local homes decked out in holiday finery takes place from 11 am to 4 pm on Sunday\, December 3. It&rsquo\;s a great opportunity to experience homeowners&rsquo\; unique styles and gather ideas for your own decor.</span></span></p>\n\n<p style="box-sizing: inherit\; margin-top: 0px\; margin-bottom: 1.5em\; color: rgb(138\, 137\, 137)\; font-family: vegurregular\, Arial\, sans-serif\; font-size: 13.6px\;"><span style="color:#000000\;"><span style="box-sizing: inherit\;">Featured houses span the decades and architectural styles. The tour also includes two Holiday Boutiques in historic homes\, where guests will find art\, jewelry\, clothing and decor sourced and in many cases created by local artisans.</span></span></p>\n\n<p style="box-sizing: inherit\; margin-top: 0px\; margin-bottom: 1.5em\; color: rgb(138\, 137\, 137)\; font-family: vegurregular\, Arial\, sans-serif\; font-size: 13.6px\;"><span style="color:#000000\;"><span style="box-sizing: inherit\;">And visitors will be able to enjoy the charms of the village&rsquo\;s uptown shops\, businesses\, restaurants and cafes\, as many will be open for holiday shopping\, drinks and dining.&nbsp\;</span></span></p>\n
LOCATION:
UID:e.1126.25092
SEQUENCE:3
DTSTAMP:20260424T100621Z
URL:https://business.lflbchamber.com/events/details/lake-bluff-history-museum-holiday-home-tour-25092
END:VEVENT

END:VCALENDAR
