BEGIN:VCALENDAR
VERSION:2.0
PRODID:-//ChamberMaster//Event Calendar 2.0//EN
METHOD:PUBLISH
X-PUBLISHED-TTL:P3D
REFRESH-INTERVAL:P3D
CALSCALE:GREGORIAN
BEGIN:VEVENT
DTSTART:20190714T180000Z
DTEND:20190714T200000Z
X-MICROSOFT-CDO-ALLDAYEVENT:FALSE
SUMMARY:Lake Bluff History Museum Walking Tour
DESCRIPTION:You've probably heard early Lake Bluff was a summer resort and Methodist Camp Meeting place. Did you know many summer cottages and country homes from the late 19th Century are still in use today as year-round residences? Join the Lake Bluff History Museum for a Lake Bluff Walking Tour on July 14 that focusses on Camp Meeting Cottages and Country Houses. This is the second of three docent-led walking tours hosted by the Museum in 2019. Tours are on Sunday July 14 starting at 1pm and 1:15pm --each one runs about 90 minutes.
X-ALT-DESC;FMTTYPE=text/html:You&rsquo\;ve probably heard early Lake Bluff was a summer resort and Methodist Camp Meeting place. Did you know many summer cottages and country homes from the late 19th Century are still in use today as year-round residences? Join the Lake Bluff History Museum for a Lake Bluff Walking Tour on July 14 that focusses on Camp Meeting Cottages and Country Houses. This is the second of three docent-led walking tours hosted by the Museum in 2019. Tours are on Sunday July 14 starting at 1pm and 1:15pm --each one runs about 90 minutes.
LOCATION:Starts at Lake Bluff History Museum\, 127 E. Scranton Avenue\, Lake Bluff
UID:e.1126.18085
SEQUENCE:3
DTSTAMP:20260424T043744Z
URL:https://business.lflbchamber.com/events/details/lake-bluff-history-museum-walking-tour-18085
END:VEVENT

END:VCALENDAR
