BEGIN:VCALENDAR
VERSION:2.0
PRODID:-//ChamberMaster//Event Calendar 2.0//EN
METHOD:PUBLISH
X-PUBLISHED-TTL:P3D
REFRESH-INTERVAL:P3D
CALSCALE:GREGORIAN
BEGIN:VEVENT
DTSTART:20240614T140000Z
DTEND:20240614T143000Z
X-MICROSOFT-CDO-ALLDAYEVENT:FALSE
SUMMARY:Lake Bluff Library at the Farmer's Market
DESCRIPTION:Join us at the Farmers Market for some summer fun\, whether it's entertainers\, storytellers\, or the library's own Miss Mary!\n\nJune 14th - Wendy & DB\n\nJune 28th - Storytime with the Library\n\nJuly 12th - Jasmin Cardenas:  Bailando! Dancing thru Stories\n\nJuly 26th - Storytime with the Library\n\nAugust 23rd - Storytime with the Library
X-ALT-DESC;FMTTYPE=text/html:<p>Join us at the Farmers Market for some summer fun\, whether it&#39\;s entertainers\, storytellers\, or the library&#39\;s own Miss Mary!</p>\n\n<p><strong>June 14th&nbsp\;</strong>- Wendy &amp\; DB<br />\n<strong>June 28th&nbsp\;</strong>- Storytime with the Library<br />\n<strong>July 12th&nbsp\;</strong>- Jasmin Cardenas: &iexcl\;Bailando! Dancing thru Stories<br />\n<strong>July 26th</strong>&nbsp\;- Storytime with the Library<br />\n<strong>August 23rd</strong>&nbsp\;- Storytime with the Library</p>\n
LOCATION:Lake Bluff Village Green Gazebo - Downtown Lake Bluff
UID:e.1126.27111
SEQUENCE:3
DTSTAMP:20260424T010750Z
URL:https://business.lflbchamber.com/events/details/lake-bluff-library-at-the-farmer-s-market-27111
END:VEVENT

END:VCALENDAR
