BEGIN:VCALENDAR
VERSION:2.0
PRODID:-//ChamberMaster//Event Calendar 2.0//EN
METHOD:PUBLISH
X-PUBLISHED-TTL:P3D
REFRESH-INTERVAL:P3D
CALSCALE:GREGORIAN
BEGIN:VEVENT
DTSTART:20190628T140000Z
DTEND:20190628T150000Z
X-MICROSOFT-CDO-ALLDAYEVENT:FALSE
SUMMARY:Lake Bluff Library @ the Farmers' Market
DESCRIPTION:Lake Bluff Library @ the Farmers' Market\n\nFridays\, 6/7 through 8/23\n\nWeather Permitting\n\n\n\nStorytime on the Green\n\n9:00am to 9:30am\n\nChildren of all ages can join us in the Gazebo during the Farmer's Market for this relaxing storytime. Grab a treat at the market\, bring a blanket to sit on\, and listen to some fun books.\n\n\n\nBook Bike @ the Farmer's Market\n\n9:00am to 10:00am\n\nCome find us at the Farmer's Market and checkout a book\, sign up for a library card\, sign up for our Summer Reading Clubs\, and learn about what's new at the Library.
X-ALT-DESC;FMTTYPE=text/html:<strong>Lake Bluff Library @ the Farmers&rsquo\; Market</strong><br />\nFridays\, 6/7 through 8/23<br />\nWeather Permitting<br />\n<br />\n<strong>Storytime on the Green</strong><br />\n9:00am to 9:30am<br />\nChildren of all ages can join us in the Gazebo during the Farmer&#39\;s Market for this relaxing storytime. Grab a treat at the market\, bring a blanket to sit on\, and listen to some fun books.<br />\n<br />\n<strong>Book Bike @ the Farmer&rsquo\;s Market</strong><br />\n9:00am to 10:00am<br />\nCome find us at the Farmer&rsquo\;s Market and checkout a book\, sign up for a library card\, sign up for our Summer Reading Clubs\, and learn about what&rsquo\;s new at the Library.
LOCATION:LB Farmers Market is located at the intersection of Sheridan Rd. and E. Scranton Ave.
UID:e.1126.17942
SEQUENCE:3
DTSTAMP:20260424T072216Z
URL:https://business.lflbchamber.com/events/details/lake-bluff-library-the-farmers-market-06-28-2019-17942
END:VEVENT

END:VCALENDAR
