BEGIN:VCALENDAR
VERSION:2.0
PRODID:-//ChamberMaster//Event Calendar 2.0//EN
METHOD:PUBLISH
X-PUBLISHED-TTL:P3D
REFRESH-INTERVAL:P3D
CALSCALE:GREGORIAN
BEGIN:VEVENT
DTSTART:20190907T160000Z
DTEND:20190907T190000Z
X-MICROSOFT-CDO-ALLDAYEVENT:FALSE
SUMMARY:Lake Bluff Paddle Open House
DESCRIPTION:FREE KICK OFF PARTY FOR PADDLE SEASON? Saturday\, September 7 (11:00 am to 2:00 pm.) is the kick off for the 2019-2020 Paddle Season. Everyone's welcome from long time members to those interested in learning what paddle is all about. There will be paddle demos\, membership information and lots to eat and drink. The party takes place in the Questions\, contact Eric Moran. 847 951 2808
X-ALT-DESC;FMTTYPE=text/html:FREE KICK OFF PARTY FOR PADDLE SEASON? Saturday\, September 7 (11:00 am to 2:00 pm.) is the kick off for the 2019-2020 Paddle Season. Everyone&rsquo\;s welcome from long time members to those interested in learning what paddle is all about. There will be paddle demos\, membership information and lots to eat and drink. The party takes place in the Questions\, contact Eric Moran. 847 951 2808
LOCATION:Paddle Hut and the Paddle Courts on the Blair Park Campus\, Lake Bluff
UID:e.1126.18183
SEQUENCE:3
DTSTAMP:20260424T012601Z
URL:https://business.lflbchamber.com/events/details/lake-bluff-paddle-open-house-18183
END:VEVENT

END:VCALENDAR
