BEGIN:VCALENDAR
VERSION:2.0
PRODID:-//ChamberMaster//Event Calendar 2.0//EN
METHOD:PUBLISH
X-PUBLISHED-TTL:P3D
REFRESH-INTERVAL:P3D
CALSCALE:GREGORIAN
BEGIN:VEVENT
DTSTART:20250502T000000Z
DTEND:20250502T010000Z
X-MICROSOFT-CDO-ALLDAYEVENT:FALSE
SUMMARY:Lake Forest in 1916
DESCRIPTION:Register and join us in person to travel back more than 100 years to Lake Forest during the iconic Jazz Age. In 1916\, Market Square was just opening\, local Red Cross groups were forming to assist the European war effort\, the Marion Lambert murder trial was dominating local and national headlines\, and author F. Scott Fitzgerald was visiting Lake Forest to see Ginevra King. \n\nPresenter Laurie Stein is Deputy Director and Head of Curation of the History Center of Lake Forest-Lake Bluff.
X-ALT-DESC;FMTTYPE=text/html:<p>Register and join us in person to travel back more than 100 years to Lake Forest during the iconic Jazz Age. In 1916\, Market Square was just opening\, local Red Cross groups were forming to assist the European war effort\, the Marion Lambert murder trial was dominating local and national headlines\, and author F. Scott Fitzgerald was visiting Lake Forest to see Ginevra King.&nbsp\;</p>\n\n<p>Presenter Laurie Stein is Deputy Director and Head of Curation of the History Center of Lake Forest-Lake Bluff.</p>\n
LOCATION:Lake Forest Library 360 E Deerpath Rd Lake Forest IL 60045
UID:e.1126.30376
SEQUENCE:3
DTSTAMP:20260424T053233Z
URL:https://business.lflbchamber.com/events/details/lake-forest-in-1916-30376
END:VEVENT

END:VCALENDAR
