BEGIN:VCALENDAR
VERSION:2.0
PRODID:-//ChamberMaster//Event Calendar 2.0//EN
METHOD:PUBLISH
X-PUBLISHED-TTL:P3D
REFRESH-INTERVAL:P3D
CALSCALE:GREGORIAN
BEGIN:VEVENT
DTSTART:20220925T210000Z
DTEND:20220926T000000Z
X-MICROSOFT-CDO-ALLDAYEVENT:FALSE
SUMMARY:Lake Forest Open Lands' Bagpipes & Bonfire
DESCRIPTION:Celebrate this fall tradition with games\, activities and entertainment for all ages! Enjoy a complimentary donut from Firecakes Donuts' own Billy the Truck. Feel the warmth of the community bonfire and gather to watch Highland games and the procession of the marching pipers on the field! Please join us as an Order of the Tartan or Patron and enjoy a gourmet picnic dinner provided by LFOLA. Or pack a BYO dinner and refreshments and be a part of the community picnic. Proceeds from Bagpipes & Bonfire support LFOLA's mission to connect all to nature through outreach and land stewardship.
X-ALT-DESC;FMTTYPE=text/html:Celebrate this fall tradition with games\, activities and entertainment for all ages! Enjoy a complimentary donut from Firecakes Donuts&#39\; own Billy the Truck. Feel the warmth of the community bonfire and gather to watch Highland games and the procession of the marching pipers on the field! Please join us as an Order of the Tartan or Patron and enjoy a gourmet picnic dinner provided by LFOLA. Or pack a BYO dinner and refreshments and be a part of the community picnic. Proceeds from Bagpipes &amp\; Bonfire support LFOLA&rsquo\;s mission to connect all to nature through outreach and land stewardship.
LOCATION:LFOLA's Middlefork Farm Nature Preserve (parking at Northwestern Lake Forest Hospital)
UID:e.1126.22613
SEQUENCE:3
DTSTAMP:20260426T041055Z
URL:https://business.lflbchamber.com/events/details/lake-forest-open-lands-bagpipes-bonfire-09-25-2022-22613
END:VEVENT

END:VCALENDAR
