BEGIN:VCALENDAR
VERSION:2.0
PRODID:-//ChamberMaster//Event Calendar 2.0//EN
METHOD:PUBLISH
X-PUBLISHED-TTL:P3D
REFRESH-INTERVAL:P3D
CALSCALE:GREGORIAN
BEGIN:VEVENT
DTSTART:20190620T000000Z
DTEND:20190620T013000Z
X-MICROSOFT-CDO-ALLDAYEVENT:FALSE
SUMMARY:Lake Forest Open Lands: Sunset Yoga
DESCRIPTION:Join Lake Forest Open Lands\, Forever Om Yoga and LF Juice for an evening of yoga. Let the solar energies of the summer solstice nourish and support you while practicing in nature with the sun setting over the prairie. Our hour of yoga will be followed by light refreshments.
X-ALT-DESC;FMTTYPE=text/html:Join Lake Forest Open Lands\, Forever Om Yoga and LF Juice for an evening of yoga. Let the solar energies of the summer solstice nourish and support you while practicing in nature with the sun setting over the prairie. Our hour of yoga will be followed by light refreshments.
LOCATION:Lake Forest Open Lands' Mellody Farm Nature Preserve\, 350 N. Waukegan Road\, Lake Forest
UID:e.1126.17964
SEQUENCE:3
DTSTAMP:20260424T071605Z
URL:https://business.lflbchamber.com/events/details/lake-forest-open-lands-sunset-yoga-17964
END:VEVENT

END:VCALENDAR
