BEGIN:VCALENDAR
VERSION:2.0
PRODID:-//ChamberMaster//Event Calendar 2.0//EN
METHOD:PUBLISH
X-PUBLISHED-TTL:P3D
REFRESH-INTERVAL:P3D
CALSCALE:GREGORIAN
BEGIN:VEVENT
DTSTART;VALUE=DATE:20231216
DTEND;VALUE=DATE:20231217
TRANSP:TRANSPARENT
X-MICROSOFT-CDO-ALLDAYEVENT:TRUE
SUMMARY:Lake Forest Saturday Market
DESCRIPTION:Celebrate the Holidays!\n\nThe Third Annual Saturday Market   Celebrate the Holidays is right around the corner. Mark your calendar and stop by the West Lake Forest Train Station (911 Telegraph Road) on Saturday\, December 9 and 16 between 10 am to 2 pm to shop for unique gifts\, enjoy specialty foods\, and visit with friends and neighbors. We look forward to seeing you there.
X-ALT-DESC;FMTTYPE=text/html:<strong style="box-sizing: border-box\; color: rgb(0\, 0\, 0)\; font-family: &quot\;Open Sans&quot\;\, sans-serif\; font-size: 15px\;">Celebrate the Holidays!</strong><br style="box-sizing: border-box\; color: rgb(0\, 0\, 0)\; font-family: &quot\;Open Sans&quot\;\, sans-serif\; font-size: 15px\;" />\n<span style="color: rgb(0\, 0\, 0)\; font-family: &quot\;Open Sans&quot\;\, sans-serif\; font-size: 15px\;">The Third Annual Saturday Market &ndash\; Celebrate the Holidays is right around the corner. Mark your calendar and stop by the West Lake Forest Train Station (911 Telegraph Road) on Saturday\, December 9 and 16 between 10 am to 2 pm to shop for unique gifts\, enjoy specialty foods\, and visit with friends and neighbors. We look forward to seeing you there.</span>
LOCATION:West Lake Forest Train Station 911 Telegraph Road Lake Forest\, IL
UID:e.1126.26102
SEQUENCE:3
DTSTAMP:20260423T112424Z
URL:https://business.lflbchamber.com/events/details/lake-forest-saturday-market-12-16-2023-26102
END:VEVENT

END:VCALENDAR
