BEGIN:VCALENDAR
VERSION:2.0
PRODID:-//ChamberMaster//Event Calendar 2.0//EN
METHOD:PUBLISH
X-PUBLISHED-TTL:P3D
REFRESH-INTERVAL:P3D
CALSCALE:GREGORIAN
BEGIN:VEVENT
DTSTART:20250416T000000Z
DTEND:20250416T013000Z
X-MICROSOFT-CDO-ALLDAYEVENT:FALSE
SUMMARY:Lake Forest Spring Ward Meetings - Ward 3
DESCRIPTION:Join your Aldermen to learn what's new in your neighborhood and what's happening in Lake Forest!\n\n\n\nWondering what Ward you live in?\n\nFind your Ward and other info at cityoflakeforest.com/CommunityPortal\n\n\n\nFind more information on Ward Meetings at cityoflakeforest.com/WardMeetings
X-ALT-DESC;FMTTYPE=text/html:Join your Aldermen to learn what&#39\;s new in your neighborhood and what&#39\;s happening in Lake Forest!<br />\n<br />\nWondering what Ward you live in?<br />\nFind your Ward and other info at cityoflakeforest.com/CommunityPortal<br />\n<br />\nFind more information on Ward Meetings at cityoflakeforest.com/WardMeetings<br />\n<br />\n&nbsp\;
LOCATION:Gorton Center\, 400 E Illinois Road\, Lake Forest
UID:e.1126.30371
SEQUENCE:3
DTSTAMP:20260424T040823Z
URL:https://business.lflbchamber.com/events/details/lake-forest-spring-ward-meetings-ward-3-30371
END:VEVENT

END:VCALENDAR
