BEGIN:VCALENDAR
VERSION:2.0
PRODID:-//ChamberMaster//Event Calendar 2.0//EN
METHOD:PUBLISH
X-PUBLISHED-TTL:P3D
REFRESH-INTERVAL:P3D
CALSCALE:GREGORIAN
BEGIN:VEVENT
DTSTART:20190921T230000Z
DTEND:20190922T023000Z
X-MICROSOFT-CDO-ALLDAYEVENT:FALSE
SUMMARY:Lake Forest Symphony: Opening Night Party and Concert
DESCRIPTION:Join the Lake Forest Symphony on the red carpet for Opening Night of our 62nd Season On Saturday\, September 21! After a pre-concert party\, the Symphony kicks off its season with Prokofiev's "symphonic fairy tale for children"\, Peter and the Wolf. In the second half Concertmaster Netanel Draiblate gives the world premiere of his new cadenza in Tchaikovsky's landmark Concerto for Violin.
X-ALT-DESC;FMTTYPE=text/html:Join the Lake Forest Symphony on the red carpet for Opening Night of our 62nd Season On Saturday\, September 21! After a pre-concert party\, the Symphony kicks off its season with Prokofiev&rsquo\;s &ldquo\;symphonic fairy tale for children&rdquo\;\, Peter and the Wolf. In the second half Concertmaster Netanel Draiblate gives the world premiere of his new cadenza in Tchaikovsky&rsquo\;s landmark Concerto for Violin.
LOCATION:Gorton Center 400 E. Illinois Rd. Lake Forest\, IL. 60045
UID:e.1126.17905
SEQUENCE:3
DTSTAMP:20260424T012832Z
URL:https://business.lflbchamber.com/events/details/lake-forest-symphony-opening-night-party-and-concert-17905
END:VEVENT

END:VCALENDAR
