BEGIN:VCALENDAR
VERSION:2.0
PRODID:-//ChamberMaster//Event Calendar 2.0//EN
METHOD:PUBLISH
X-PUBLISHED-TTL:P3D
REFRESH-INTERVAL:P3D
CALSCALE:GREGORIAN
BEGIN:VEVENT
DTSTART:20190519T190000Z
DTEND:20190519T210000Z
X-MICROSOFT-CDO-ALLDAYEVENT:FALSE
SUMMARY:Lake Forest Symphony: Rachmaninov Piano Concerto No. 3
DESCRIPTION:The Lake Forest Symphony begins its final concert of the season with Tchaikovsky's extroverted Polonaise\, only to be silenced by the introspective and mysterious beginning of Schubert's Unfinished Symphony. A profound and tremendous work\, it was a significant proponent in Maestro Kulenovic's dedication to music from a very early age. The season concludes with pianist Wael Farouk's return to the Lake Forest in the herculean Third Piano Concerto of Sergei Rachmaninov.
X-ALT-DESC;FMTTYPE=text/html:The Lake Forest Symphony begins its final concert of the season with Tchaikovsky&#39\;s extroverted Polonaise\, only to be silenced by the introspective and mysterious beginning of Schubert&#39\;s Unfinished Symphony. A profound and tremendous work\, it was a significant proponent in Maestro Kulenovic&#39\;s dedication to music from a very early age. The season concludes with pianist Wael Farouk&#39\;s return to the Lake Forest in the herculean Third Piano Concerto of Sergei Rachmaninov.
LOCATION:James Lumber Center College of Lake County 19351 W Washington St Grayslake\, IL
UID:e.1126.15070
SEQUENCE:3
DTSTAMP:20260424T085353Z
URL:https://business.lflbchamber.com/events/details/lake-forest-symphony-rachmaninov-piano-concerto-no-3-05-19-2019-15070
END:VEVENT

END:VCALENDAR
