BEGIN:VCALENDAR
VERSION:2.0
PRODID:-//ChamberMaster//Event Calendar 2.0//EN
METHOD:PUBLISH
X-PUBLISHED-TTL:P3D
REFRESH-INTERVAL:P3D
CALSCALE:GREGORIAN
BEGIN:VEVENT
DTSTART:20190507T231500Z
DTEND:20190508T004500Z
X-MICROSOFT-CDO-ALLDAYEVENT:FALSE
SUMMARY:Lake Forest Toastmasters Club
DESCRIPTION:Our club provides a supportive environment to help you build better communication and leadership skills. It gives you an opportunity to practice public speaking in friendly personal settings.
X-ALT-DESC;FMTTYPE=text/html:Our club provides a supportive environment to help you build better communication and leadership skills. It gives you an opportunity to practice public speaking in friendly personal settings.
LOCATION:Gorton Community Center
UID:e.1126.17853
SEQUENCE:3
DTSTAMP:20260424T084754Z
URL:https://business.lflbchamber.com/events/details/lake-forest-toastmasters-club-17853
END:VEVENT

END:VCALENDAR
