BEGIN:VCALENDAR
VERSION:2.0
PRODID:-//ChamberMaster//Event Calendar 2.0//EN
METHOD:PUBLISH
X-PUBLISHED-TTL:P3D
REFRESH-INTERVAL:P3D
CALSCALE:GREGORIAN
BEGIN:VEVENT
DTSTART:20260403T000000Z
DTEND:20260403T010000Z
X-MICROSOFT-CDO-ALLDAYEVENT:FALSE
SUMMARY:Landscaping for a Changing Climate
DESCRIPTION:Register and join Lake County Forest Preserves in person to learn how what we plant and how we plant it can make a difference. Discover nature-based solutions for the home gardener that lessen the impacts of our changing climate.
X-ALT-DESC;FMTTYPE=text/html:<span style="font-family:gotham\,sans-serif\; font-size:14px">Register and join Lake County Forest Preserves in person to learn how what we plant and how we plant it can make a difference. Discover nature-based solutions for the home gardener that lessen the impacts of our changing climate.</span>
LOCATION:Lake Forest Library 360 E Deerpath Rd Lake Forest IL 60045
UID:e.1126.33880
SEQUENCE:3
DTSTAMP:20260425T220625Z
URL:https://business.lflbchamber.com/events/details/landscaping-for-a-changing-climate-33880
END:VEVENT

END:VCALENDAR
