BEGIN:VCALENDAR
VERSION:2.0
PRODID:-//ChamberMaster//Event Calendar 2.0//EN
METHOD:PUBLISH
X-PUBLISHED-TTL:P3D
REFRESH-INTERVAL:P3D
CALSCALE:GREGORIAN
BEGIN:VEVENT
DTSTART;VALUE=DATE:20220913
DTEND;VALUE=DATE:20220914
TRANSP:TRANSPARENT
X-MICROSOFT-CDO-ALLDAYEVENT:TRUE
SUMMARY:Last Chance TICKET PURCHASE in Person
DESCRIPTION:Tickets almost sold out. Make your reservation Tues 9-13-22 for the Lake Bluff Women's Club Fall Benefit "Caring and Sharing". MARK YOUR CALENDARS/ October 18th at White Deer Run Golf Club in Vernon Hills. Make plans with your friends to attend LBWC biggest fundraising event of the year. Choose an entr e and table partners when you make your reservation. Huge Raffle\, Silent Auction\, Live Entertainment. PLACE TO PURCHASE: Lobby of Grace United Methodist Church 244 E. Central Ave.\, Lake Bluff from 11:00am - 1:00pm. Ticket price $70 Option: Purchase tickets by mail payable to: LBWC\n\nMailing Address: LBWC c/o Kathy Sheppard\, 126 E. Sheridan Rd. / Lake Bluff\, IL. 60044 Unable to join us? Donations would be deeply appreciated.
X-ALT-DESC;FMTTYPE=text/html:<p>Tickets almost sold out. Make your reservation Tues 9-13-22&nbsp\;for the Lake Bluff Women&#39\;s Club Fall Benefit <em>&quot\;Caring and Sharing&quot\;. MARK YOUR CALENDARS/&nbsp\;</em>October 18th at White Deer Run Golf Club in Vernon Hills. Make plans with your friends to attend LBWC biggest fundraising event of the year. Choose an entr&eacute\;e and table partners when you make your reservation. Huge Raffle\, Silent Auction\, Live Entertainment. PLACE TO PURCHASE: Lobby of Grace United Methodist Church 244 E. Central Ave.\, Lake Bluff from 11:00am - 1:00pm. <strong>Ticket price $70</strong> <em>Option</em>: Purchase tickets by mail payable to: LBWC<br />\n<em>Mailing Address: LBWC c/o Kathy Sheppard\, 126 E. Sheridan Rd. / Lake Bluff\, IL. 60044 Unable to join us?</em> Donations would be deeply appreciated.</p>\n
LOCATION:Lobby of Grace United Methodist Church 244 E. Central Ave.\, Lake Bluff from 11:00am - 1:00pm. Ticket price $70
UID:e.1126.22622
SEQUENCE:3
DTSTAMP:20260426T040921Z
URL:https://business.lflbchamber.com/events/details/last-chance-ticket-purchase-in-person-22622
END:VEVENT

END:VCALENDAR
