BEGIN:VCALENDAR
VERSION:2.0
PRODID:-//ChamberMaster//Event Calendar 2.0//EN
METHOD:PUBLISH
X-PUBLISHED-TTL:P3D
REFRESH-INTERVAL:P3D
CALSCALE:GREGORIAN
BEGIN:VEVENT
DTSTART;VALUE=DATE:20240605
DTEND;VALUE=DATE:20240606
TRANSP:TRANSPARENT
X-MICROSOFT-CDO-ALLDAYEVENT:TRUE
SUMMARY:Last Day of School\, Early Dismissal LB65
DESCRIPTION:Last Day of School\, Early Dismissal\, Lake Bluff School District 65
X-ALT-DESC;FMTTYPE=text/html:Last Day of School\, Early Dismissal\, Lake Bluff School District 65
LOCATION:
UID:e.1126.27517
SEQUENCE:3
DTSTAMP:20260424T010908Z
URL:https://business.lflbchamber.com/events/details/last-day-of-school-early-dismissal-lb65-27517
END:VEVENT

END:VCALENDAR
