BEGIN:VCALENDAR
VERSION:2.0
PRODID:-//ChamberMaster//Event Calendar 2.0//EN
METHOD:PUBLISH
X-PUBLISHED-TTL:P3D
REFRESH-INTERVAL:P3D
CALSCALE:GREGORIAN
BEGIN:VEVENT
DTSTART;VALUE=DATE:20240628
DTEND;VALUE=DATE:20240629
TRANSP:TRANSPARENT
X-MICROSOFT-CDO-ALLDAYEVENT:TRUE
SUMMARY:Last Day of Summer School\, LB65
DESCRIPTION:Last Day of Summer School\, Lake Bluff District 65
X-ALT-DESC;FMTTYPE=text/html:Last Day of Summer School\, Lake Bluff District 65
LOCATION:
UID:e.1126.27520
SEQUENCE:3
DTSTAMP:20260424T010910Z
URL:https://business.lflbchamber.com/events/details/last-day-of-summer-school-lb65-27520
END:VEVENT

END:VCALENDAR
